BEGIN:VCALENDAR
VERSION:2.0
PRODID:-//慶誠高等学校 陸上競技部【公式】 - ECPv6.13.2.1//NONSGML v1.0//EN
CALSCALE:GREGORIAN
METHOD:PUBLISH
X-WR-CALNAME:慶誠高等学校 陸上競技部【公式】
X-ORIGINAL-URL:https://keisei-athletics.com
X-WR-CALDESC:慶誠高等学校 陸上競技部【公式】 のイベント
REFRESH-INTERVAL;VALUE=DURATION:PT1H
X-Robots-Tag:noindex
X-PUBLISHED-TTL:PT1H
BEGIN:VTIMEZONE
TZID:Asia/Tokyo
BEGIN:STANDARD
TZOFFSETFROM:+0900
TZOFFSETTO:+0900
TZNAME:JST
DTSTART:20240101T000000
END:STANDARD
END:VTIMEZONE
BEGIN:VEVENT
DTSTART;VALUE=DATE:20250420
DTEND;VALUE=DATE:20250421
DTSTAMP:20260421T083540
CREATED:20250206T023546Z
LAST-MODIFIED:20250206T054857Z
UID:3018-1745107200-1745193599@keisei-athletics.com
SUMMARY:第26回谷口睦生杯八代陸上選手権大会
DESCRIPTION:県営八代
URL:https://keisei-athletics.com/event/%e7%ac%ac26%e5%9b%9e%e8%b0%b7%e5%8f%a3%e7%9d%a6%e7%94%9f%e6%9d%af%e5%85%ab%e4%bb%a3%e9%99%b8%e4%b8%8a%e9%81%b8%e6%89%8b%e6%a8%a9%e5%a4%a7%e4%bc%9a/
END:VEVENT
BEGIN:VEVENT
DTSTART;VALUE=DATE:20250419
DTEND;VALUE=DATE:20250420
DTSTAMP:20260421T083540
CREATED:20250206T023513Z
LAST-MODIFIED:20250206T023513Z
UID:3016-1745020800-1745107199@keisei-athletics.com
SUMMARY:第44回熊本市陸上競技選手権大会（長距離種目）
DESCRIPTION:水前寺
URL:https://keisei-athletics.com/event/%e7%ac%ac44%e5%9b%9e%e7%86%8a%e6%9c%ac%e5%b8%82%e9%99%b8%e4%b8%8a%e7%ab%b6%e6%8a%80%e9%81%b8%e6%89%8b%e6%a8%a9%e5%a4%a7%e4%bc%9a%ef%bc%88%e9%95%b7%e8%b7%9d%e9%9b%a2%e7%a8%ae%e7%9b%ae%ef%bc%89/
END:VEVENT
BEGIN:VEVENT
DTSTART;VALUE=DATE:20250412
DTEND;VALUE=DATE:20250413
DTSTAMP:20260421T083540
CREATED:20250206T012845Z
LAST-MODIFIED:20250206T012845Z
UID:2969-1744416000-1744502399@keisei-athletics.com
SUMMARY:第33回金栗記念選抜陸上中長距離大会
DESCRIPTION:（えがお健康スタジアム）
URL:https://keisei-athletics.com/event/%e7%ac%ac33%e5%9b%9e%e9%87%91%e6%a0%97%e8%a8%98%e5%bf%b5%e9%81%b8%e6%8a%9c%e9%99%b8%e4%b8%8a%e4%b8%ad%e9%95%b7%e8%b7%9d%e9%9b%a2%e5%a4%a7%e4%bc%9a/
LOCATION:えがお
END:VEVENT
BEGIN:VEVENT
DTSTART;VALUE=DATE:20250324
DTEND;VALUE=DATE:20250325
DTSTAMP:20260421T083540
CREATED:20241230T124248Z
LAST-MODIFIED:20241230T124248Z
UID:2611-1742774400-1742860799@keisei-athletics.com
SUMMARY:修了式
DESCRIPTION:
URL:https://keisei-athletics.com/event/%e4%bf%ae%e4%ba%86%e5%bc%8f-2/
END:VEVENT
BEGIN:VEVENT
DTSTART;VALUE=DATE:20250322
DTEND;VALUE=DATE:20250323
DTSTAMP:20260421T083540
CREATED:20240201T045603Z
LAST-MODIFIED:20240201T045616Z
UID:400-1742601600-1742687999@keisei-athletics.com
SUMMARY:春季熊本陸協記録会
DESCRIPTION:えがお健康スタジアム
URL:https://keisei-athletics.com/event/%e6%98%a5%e5%ad%a3%e7%86%8a%e6%9c%ac%e9%99%b8%e5%8d%94%e8%a8%98%e9%8c%b2%e4%bc%9a/
END:VEVENT
BEGIN:VEVENT
DTSTART;VALUE=DATE:20250320
DTEND;VALUE=DATE:20250326
DTSTAMP:20260421T083540
CREATED:20241120T070630Z
LAST-MODIFIED:20241120T070630Z
UID:2564-1742428800-1742947199@keisei-athletics.com
SUMMARY:伊那駅伝
DESCRIPTION:３月２０日(木)　移動（学校ー新門司ー大阪）\n３月２１日(金)　移動・現地到着（大阪ー伊那）\n３月２２日(土)　調整練習・開会式\n３月２３日(日)　試合・移動（伊那ー大阪）\n３月２４日(月)　移動（大阪ー新門司）\n３月２５日(火)　移動（新門司ー学校） \n選手９名＋マネ１名＋引率２名＋運転手１名＝合計13名
URL:https://keisei-athletics.com/event/%e4%bc%8a%e9%82%a3%e9%a7%85%e4%bc%9d/
END:VEVENT
BEGIN:VEVENT
DTSTART;VALUE=DATE:20250320
DTEND;VALUE=DATE:20250321
DTSTAMP:20260421T083540
CREATED:20240321T002112Z
LAST-MODIFIED:20240321T002112Z
UID:647-1742428800-1742515199@keisei-athletics.com
SUMMARY:春分の日
DESCRIPTION:
URL:https://keisei-athletics.com/event/%e6%98%a5%e5%88%86%e3%81%ae%e6%97%a5-2/
END:VEVENT
BEGIN:VEVENT
DTSTART;VALUE=DATE:20250315
DTEND;VALUE=DATE:20250316
DTSTAMP:20260421T083540
CREATED:20250123T044431Z
LAST-MODIFIED:20250123T044431Z
UID:2963-1741996800-1742083199@keisei-athletics.com
SUMMARY:第３回天草市陸上競技記録会
DESCRIPTION:男子５０００ｍ追加予定\n金栗・県選標準記録突破していない者対象
URL:https://keisei-athletics.com/event/%e7%ac%ac%ef%bc%93%e5%9b%9e%e5%a4%a9%e8%8d%89%e5%b8%82%e9%99%b8%e4%b8%8a%e7%ab%b6%e6%8a%80%e8%a8%98%e9%8c%b2%e4%bc%9a/
END:VEVENT
BEGIN:VEVENT
DTSTART;VALUE=DATE:20250314
DTEND;VALUE=DATE:20250315
DTSTAMP:20260421T083540
CREATED:20241230T124134Z
LAST-MODIFIED:20241230T124134Z
UID:2609-1741910400-1741996799@keisei-athletics.com
SUMMARY:合格者招集日（生徒家庭学習）
DESCRIPTION:
URL:https://keisei-athletics.com/event/%e5%90%88%e6%a0%bc%e8%80%85%e6%8b%9b%e9%9b%86%e6%97%a5%ef%bc%88%e7%94%9f%e5%be%92%e5%ae%b6%e5%ba%ad%e5%ad%a6%e7%bf%92%ef%bc%89/
END:VEVENT
BEGIN:VEVENT
DTSTART;VALUE=DATE:20250302
DTEND;VALUE=DATE:20250303
DTSTAMP:20260421T083540
CREATED:20240201T045511Z
LAST-MODIFIED:20240201T045511Z
UID:398-1740873600-1740959999@keisei-athletics.com
SUMMARY:玉名ハーフマラソン
DESCRIPTION:
URL:https://keisei-athletics.com/event/%e7%8e%89%e5%90%8d%e3%83%8f%e3%83%bc%e3%83%95%e3%83%9e%e3%83%a9%e3%82%bd%e3%83%b3/
END:VEVENT
BEGIN:VEVENT
DTSTART;VALUE=DATE:20250301
DTEND;VALUE=DATE:20250302
DTSTAMP:20260421T083540
CREATED:20240321T002008Z
LAST-MODIFIED:20240321T002008Z
UID:645-1740787200-1740873599@keisei-athletics.com
SUMMARY:卒業式
DESCRIPTION:
URL:https://keisei-athletics.com/event/%e5%8d%92%e6%a5%ad%e5%bc%8f-2/
END:VEVENT
BEGIN:VEVENT
DTSTART;VALUE=DATE:20250221
DTEND;VALUE=DATE:20250228
DTSTAMP:20260421T083540
CREATED:20240321T001918Z
LAST-MODIFIED:20240321T001918Z
UID:643-1740096000-1740700799@keisei-athletics.com
SUMMARY:期末考査
DESCRIPTION:
URL:https://keisei-athletics.com/event/%e6%9c%9f%e6%9c%ab%e8%80%83%e6%9f%bb-4/
END:VEVENT
BEGIN:VEVENT
DTSTART;VALUE=DATE:20250217
DTEND;VALUE=DATE:20250218
DTSTAMP:20260421T083540
CREATED:20241230T123839Z
LAST-MODIFIED:20241230T123839Z
UID:2607-1739750400-1739836799@keisei-athletics.com
SUMMARY:入試会議・登校なし
DESCRIPTION:
URL:https://keisei-athletics.com/event/%e5%85%a5%e8%a9%a6%e4%bc%9a%e8%ad%b0%e3%83%bb%e7%99%bb%e6%a0%a1%e3%81%aa%e3%81%97/
END:VEVENT
BEGIN:VEVENT
DTSTART;VALUE=DATE:20250216
DTEND;VALUE=DATE:20250217
DTSTAMP:20260421T083540
CREATED:20240201T045254Z
LAST-MODIFIED:20240201T045254Z
UID:396-1739664000-1739750399@keisei-athletics.com
SUMMARY:熊本城マラソン
DESCRIPTION:
URL:https://keisei-athletics.com/event/%e7%86%8a%e6%9c%ac%e5%9f%8e%e3%83%9e%e3%83%a9%e3%82%bd%e3%83%b3-2/
END:VEVENT
BEGIN:VEVENT
DTSTART;VALUE=DATE:20250214
DTEND;VALUE=DATE:20250215
DTSTAMP:20260421T083540
CREATED:20241230T123753Z
LAST-MODIFIED:20241230T123753Z
UID:2605-1739491200-1739577599@keisei-athletics.com
SUMMARY:一般入試
DESCRIPTION:
URL:https://keisei-athletics.com/event/%e4%b8%80%e8%88%ac%e5%85%a5%e8%a9%a6/
END:VEVENT
BEGIN:VEVENT
DTSTART;TZID=Asia/Tokyo:20250213T080000
DTEND;TZID=Asia/Tokyo:20250213T170000
DTSTAMP:20260421T083540
CREATED:20241230T123731Z
LAST-MODIFIED:20241230T123731Z
UID:2603-1739433600-1739466000@keisei-athletics.com
SUMMARY:1/2/5授業　入試準備
DESCRIPTION:
URL:https://keisei-athletics.com/event/1-2-5%e6%8e%88%e6%a5%ad%e3%80%80%e5%85%a5%e8%a9%a6%e6%ba%96%e5%82%99-2/
END:VEVENT
BEGIN:VEVENT
DTSTART;VALUE=DATE:20250211
DTEND;VALUE=DATE:20250212
DTSTAMP:20260421T083540
CREATED:20241230T123646Z
LAST-MODIFIED:20241230T123646Z
UID:2601-1739232000-1739318399@keisei-athletics.com
SUMMARY:送別会１８：００
DESCRIPTION:
URL:https://keisei-athletics.com/event/%e9%80%81%e5%88%a5%e4%bc%9a%ef%bc%91%ef%bc%98%ef%bc%9a%ef%bc%90%ef%bc%90/
END:VEVENT
BEGIN:VEVENT
DTSTART;VALUE=DATE:20250209
DTEND;VALUE=DATE:20250210
DTSTAMP:20260421T083540
CREATED:20240201T045219Z
LAST-MODIFIED:20241118T033133Z
UID:394-1739059200-1739145599@keisei-athletics.com
SUMMARY:第51回郡市対抗熊日駅伝
DESCRIPTION:
URL:https://keisei-athletics.com/event/%e9%83%a1%e5%b8%82%e5%af%be%e6%8a%97%e7%94%b7%e5%ad%90%e9%a7%85%e4%bc%9d/
END:VEVENT
BEGIN:VEVENT
DTSTART;VALUE=DATE:20250201
DTEND;VALUE=DATE:20250202
DTSTAMP:20260421T083540
CREATED:20241120T071208Z
LAST-MODIFIED:20241120T071208Z
UID:2566-1738368000-1738454399@keisei-athletics.com
SUMMARY:新人駅伝
DESCRIPTION:
URL:https://keisei-athletics.com/event/%e6%96%b0%e4%ba%ba%e9%a7%85%e4%bc%9d-2/
END:VEVENT
BEGIN:VEVENT
DTSTART;VALUE=DATE:20250127
DTEND;VALUE=DATE:20250201
DTSTAMP:20260421T083540
CREATED:20240321T001742Z
LAST-MODIFIED:20240321T001742Z
UID:641-1737936000-1738367999@keisei-athletics.com
SUMMARY:2年修学旅行
DESCRIPTION:
URL:https://keisei-athletics.com/event/2%e5%b9%b4%e4%bf%ae%e5%ad%a6%e6%97%85%e8%a1%8c/
END:VEVENT
BEGIN:VEVENT
DTSTART;VALUE=DATE:20250124
DTEND;VALUE=DATE:20250125
DTSTAMP:20260421T083540
CREATED:20241230T123401Z
LAST-MODIFIED:20241230T123401Z
UID:2599-1737676800-1737763199@keisei-athletics.com
SUMMARY:入試会議
DESCRIPTION:
URL:https://keisei-athletics.com/event/%e5%85%a5%e8%a9%a6%e4%bc%9a%e8%ad%b0/
END:VEVENT
BEGIN:VEVENT
DTSTART;VALUE=DATE:20250123
DTEND;VALUE=DATE:20250124
DTSTAMP:20260421T083540
CREATED:20250109T071715Z
LAST-MODIFIED:20250109T071747Z
UID:2619-1737590400-1737676799@keisei-athletics.com
SUMMARY:採点日
DESCRIPTION:
URL:https://keisei-athletics.com/event/%e6%8e%a1%e7%82%b9%e6%97%a5/
END:VEVENT
BEGIN:VEVENT
DTSTART;VALUE=DATE:20250122
DTEND;VALUE=DATE:20250123
DTSTAMP:20260421T083540
CREATED:20241230T123314Z
LAST-MODIFIED:20250109T071444Z
UID:2597-1737504000-1737590399@keisei-athletics.com
SUMMARY:専願・奨学・スポーツ文化奨学生入試
DESCRIPTION:
URL:https://keisei-athletics.com/event/%e5%b0%82%e9%a1%98%e3%83%bb%e5%a5%a8%e5%ad%a6%e3%83%bb%e3%82%b9%e3%83%9d%e3%83%bc%e3%83%84%e6%96%87%e5%8c%96%e5%a5%a8%e5%ad%a6%e7%94%9f%e5%85%a5%e8%a9%a6/
END:VEVENT
BEGIN:VEVENT
DTSTART;VALUE=DATE:20250121
DTEND;VALUE=DATE:20250122
DTSTAMP:20260421T083540
CREATED:20241230T123240Z
LAST-MODIFIED:20250109T071536Z
UID:2595-1737417600-1737503999@keisei-athletics.com
SUMMARY:1/2/5授業・入試準備
DESCRIPTION:
URL:https://keisei-athletics.com/event/%e5%85%a5%e8%a9%a6%e6%ba%96%e5%82%99/
END:VEVENT
BEGIN:VEVENT
DTSTART;VALUE=DATE:20250119
DTEND;VALUE=DATE:20250120
DTSTAMP:20260421T083540
CREATED:20241230T123029Z
LAST-MODIFIED:20250109T071633Z
UID:2593-1737244800-1737331199@keisei-athletics.com
SUMMARY:全国都道府県駅伝
DESCRIPTION:
URL:https://keisei-athletics.com/event/%e5%85%a8%e5%9b%bd%e9%83%bd%e9%81%93%e5%ba%9c%e7%9c%8c%e9%a7%85%e4%bc%9d%ef%bc%88%e7%9b%a3%e7%9d%a3%ef%bc%89/
END:VEVENT
BEGIN:VEVENT
DTSTART;VALUE=DATE:20250108
DTEND;VALUE=DATE:20250109
DTSTAMP:20260421T083540
CREATED:20240313T053443Z
LAST-MODIFIED:20240313T053443Z
UID:619-1736294400-1736380799@keisei-athletics.com
SUMMARY:始業式
DESCRIPTION:
URL:https://keisei-athletics.com/event/%e5%a7%8b%e6%a5%ad%e5%bc%8f-3/
END:VEVENT
BEGIN:VEVENT
DTSTART;VALUE=DATE:20241229
DTEND;VALUE=DATE:20250105
DTSTAMP:20260421T083540
CREATED:20241213T063113Z
LAST-MODIFIED:20241213T063113Z
UID:2584-1735430400-1736035199@keisei-athletics.com
SUMMARY:正月休み12/29~1/4
DESCRIPTION:
URL:https://keisei-athletics.com/event/%e6%ad%a3%e6%9c%88%e4%bc%91%e3%81%bf12-291-4/
END:VEVENT
BEGIN:VEVENT
DTSTART;VALUE=DATE:20241228
DTEND;VALUE=DATE:20241229
DTSTAMP:20260421T083540
CREATED:20240317T012956Z
LAST-MODIFIED:20240317T012956Z
UID:626-1735344000-1735430399@keisei-athletics.com
SUMMARY:熊本市ロードレース大会
DESCRIPTION:
URL:https://keisei-athletics.com/event/%e7%86%8a%e6%9c%ac%e5%b8%82%e3%83%ad%e3%83%bc%e3%83%89%e3%83%ac%e3%83%bc%e3%82%b9%e5%a4%a7%e4%bc%9a/
END:VEVENT
BEGIN:VEVENT
DTSTART;VALUE=DATE:20241228
DTEND;VALUE=DATE:20241229
DTSTAMP:20260421T083540
CREATED:20240201T045037Z
LAST-MODIFIED:20240201T045037Z
UID:390-1735344000-1735430399@keisei-athletics.com
SUMMARY:第4回益城公認ロードレース
DESCRIPTION:
URL:https://keisei-athletics.com/event/%e7%ac%ac4%e5%9b%9e%e7%9b%8a%e5%9f%8e%e5%85%ac%e8%aa%8d%e3%83%ad%e3%83%bc%e3%83%89%e3%83%ac%e3%83%bc%e3%82%b9/
END:VEVENT
BEGIN:VEVENT
DTSTART;VALUE=DATE:20241224
DTEND;VALUE=DATE:20241225
DTSTAMP:20260421T083540
CREATED:20240313T053403Z
LAST-MODIFIED:20240313T053403Z
UID:617-1734998400-1735084799@keisei-athletics.com
SUMMARY:終業式
DESCRIPTION:
URL:https://keisei-athletics.com/event/%e7%b5%82%e6%a5%ad%e5%bc%8f-3/
END:VEVENT
END:VCALENDAR