BEGIN:VCALENDAR
VERSION:2.0
PRODID:-//慶誠高等学校 陸上競技部【公式】 - ECPv6.13.2.1//NONSGML v1.0//EN
CALSCALE:GREGORIAN
METHOD:PUBLISH
X-WR-CALNAME:慶誠高等学校 陸上競技部【公式】
X-ORIGINAL-URL:https://keisei-athletics.com
X-WR-CALDESC:慶誠高等学校 陸上競技部【公式】 のイベント
REFRESH-INTERVAL;VALUE=DURATION:PT1H
X-Robots-Tag:noindex
X-PUBLISHED-TTL:PT1H
BEGIN:VTIMEZONE
TZID:Asia/Tokyo
BEGIN:STANDARD
TZOFFSETFROM:+0900
TZOFFSETTO:+0900
TZNAME:JST
DTSTART:20240101T000000
END:STANDARD
END:VTIMEZONE
BEGIN:VEVENT
DTSTART;VALUE=DATE:20240413
DTEND;VALUE=DATE:20240414
DTSTAMP:20260421T124415
CREATED:20240201T041529Z
LAST-MODIFIED:20240201T041529Z
UID:358-1712966400-1713052799@keisei-athletics.com
SUMMARY:第32回金栗記念選抜陸上中長距離熊本大会
DESCRIPTION:えがお健康スタジアム\n15分35秒以内の選手のみ出場
URL:https://keisei-athletics.com/event/%e7%ac%ac32%e5%9b%9e%e9%87%91%e6%a0%97%e8%a8%98%e5%bf%b5%e9%81%b8%e6%8a%9c%e9%99%b8%e4%b8%8a%e4%b8%ad%e9%95%b7%e8%b7%9d%e9%9b%a2%e7%86%8a%e6%9c%ac%e5%a4%a7%e4%bc%9a/
END:VEVENT
BEGIN:VEVENT
DTSTART;VALUE=DATE:20240412
DTEND;VALUE=DATE:20240413
DTSTAMP:20260421T124415
CREATED:20240313T045011Z
LAST-MODIFIED:20240313T045011Z
UID:573-1712880000-1712966399@keisei-athletics.com
SUMMARY:写真撮影・学年集会
DESCRIPTION:
URL:https://keisei-athletics.com/event/%e5%86%99%e7%9c%9f%e6%92%ae%e5%bd%b1%e3%83%bb%e5%ad%a6%e5%b9%b4%e9%9b%86%e4%bc%9a/
END:VEVENT
BEGIN:VEVENT
DTSTART;VALUE=DATE:20240411
DTEND;VALUE=DATE:20240412
DTSTAMP:20260421T124415
CREATED:20240313T044932Z
LAST-MODIFIED:20240313T044932Z
UID:571-1712793600-1712879999@keisei-athletics.com
SUMMARY:新入生・基礎力テスト
DESCRIPTION:
URL:https://keisei-athletics.com/event/%e6%96%b0%e5%85%a5%e7%94%9f%e3%83%bb%e5%9f%ba%e7%a4%8e%e5%8a%9b%e3%83%86%e3%82%b9%e3%83%88/
END:VEVENT
BEGIN:VEVENT
DTSTART;VALUE=DATE:20240410
DTEND;VALUE=DATE:20240411
DTSTAMP:20260421T124415
CREATED:20240313T044838Z
LAST-MODIFIED:20240313T044838Z
UID:569-1712707200-1712793599@keisei-athletics.com
SUMMARY:オリエンテーション・部活動紹介
DESCRIPTION:
URL:https://keisei-athletics.com/event/%e3%82%aa%e3%83%aa%e3%82%a8%e3%83%b3%e3%83%86%e3%83%bc%e3%82%b7%e3%83%a7%e3%83%b3%e3%83%bb%e9%83%a8%e6%b4%bb%e5%8b%95%e7%b4%b9%e4%bb%8b/
END:VEVENT
BEGIN:VEVENT
DTSTART;VALUE=DATE:20240409
DTEND;VALUE=DATE:20240410
DTSTAMP:20260421T124415
CREATED:20240313T044753Z
LAST-MODIFIED:20240313T044753Z
UID:567-1712620800-1712707199@keisei-athletics.com
SUMMARY:入学式・入寮式
DESCRIPTION:
URL:https://keisei-athletics.com/event/%e5%85%a5%e5%ad%a6%e5%bc%8f%e3%83%bb%e5%85%a5%e5%af%ae%e5%bc%8f/
END:VEVENT
BEGIN:VEVENT
DTSTART;VALUE=DATE:20240408
DTEND;VALUE=DATE:20240409
DTSTAMP:20260421T124415
CREATED:20240313T044609Z
LAST-MODIFIED:20240313T044609Z
UID:565-1712534400-1712620799@keisei-athletics.com
SUMMARY:始業式・入学式準備
DESCRIPTION:
URL:https://keisei-athletics.com/event/%e5%a7%8b%e6%a5%ad%e5%bc%8f%e3%83%bb%e5%85%a5%e5%ad%a6%e5%bc%8f%e6%ba%96%e5%82%99/
END:VEVENT
BEGIN:VEVENT
DTSTART;VALUE=DATE:20240327
DTEND;VALUE=DATE:20240401
DTSTAMP:20260421T124415
CREATED:20240220T004456Z
LAST-MODIFIED:20240220T004456Z
UID:456-1711497600-1711929599@keisei-athletics.com
SUMMARY:阿蘇合宿
DESCRIPTION:角萬
URL:https://keisei-athletics.com/event/%e9%98%bf%e8%98%87%e5%90%88%e5%ae%bf/
END:VEVENT
BEGIN:VEVENT
DTSTART;VALUE=DATE:20240323
DTEND;VALUE=DATE:20240325
DTSTAMP:20260421T124415
CREATED:20240201T052354Z
LAST-MODIFIED:20240201T052509Z
UID:406-1711152000-1711324799@keisei-athletics.com
SUMMARY:大牟田春季記録会
DESCRIPTION:２３日\n200m\n800m\n3000m\n1600mR \n２４日\n100m\n400m\n400R
URL:https://keisei-athletics.com/event/%e5%a4%a7%e7%89%9f%e7%94%b0%e6%98%a5%e5%ad%a3%e8%a8%98%e9%8c%b2%e4%bc%9a/
END:VEVENT
BEGIN:VEVENT
DTSTART;VALUE=DATE:20240323
DTEND;VALUE=DATE:20240324
DTSTAMP:20260421T124415
CREATED:20240318T040126Z
LAST-MODIFIED:20240318T040126Z
UID:632-1711152000-1711238399@keisei-athletics.com
SUMMARY:春季陸協記録会
DESCRIPTION:競歩・短距離のみ
URL:https://keisei-athletics.com/event/%e6%98%a5%e5%ad%a3%e9%99%b8%e5%8d%94%e8%a8%98%e9%8c%b2%e4%bc%9a/
END:VEVENT
BEGIN:VEVENT
DTSTART;VALUE=DATE:20240322
DTEND;VALUE=DATE:20240323
DTSTAMP:20260421T124415
CREATED:20231003T014320Z
LAST-MODIFIED:20231003T014320Z
UID:218-1711065600-1711151999@keisei-athletics.com
SUMMARY:修了式
DESCRIPTION:
URL:https://keisei-athletics.com/event/%e4%bf%ae%e4%ba%86%e5%bc%8f/
END:VEVENT
BEGIN:VEVENT
DTSTART;VALUE=DATE:20240320
DTEND;VALUE=DATE:20240321
DTSTAMP:20260421T124415
CREATED:20231003T014253Z
LAST-MODIFIED:20231003T014253Z
UID:216-1710892800-1710979199@keisei-athletics.com
SUMMARY:春分の日
DESCRIPTION:
URL:https://keisei-athletics.com/event/%e6%98%a5%e5%88%86%e3%81%ae%e6%97%a5/
END:VEVENT
BEGIN:VEVENT
DTSTART;VALUE=DATE:20240317
DTEND;VALUE=DATE:20240318
DTSTAMP:20260421T124415
CREATED:20240201T052158Z
LAST-MODIFIED:20240220T050305Z
UID:404-1710633600-1710719999@keisei-athletics.com
SUMMARY:長崎県陸上競技記録会
DESCRIPTION:出場なし
URL:https://keisei-athletics.com/event/%e9%95%b7%e5%b4%8e%e7%9c%8c%e9%99%b8%e4%b8%8a%e7%ab%b6%e6%8a%80%e8%a8%98%e9%8c%b2%e4%bc%9a/
END:VEVENT
BEGIN:VEVENT
DTSTART;VALUE=DATE:20240316
DTEND;VALUE=DATE:20240317
DTSTAMP:20260421T124415
CREATED:20240220T050446Z
LAST-MODIFIED:20240220T055032Z
UID:460-1710547200-1710633599@keisei-athletics.com
SUMMARY:久留米長距離記録会
DESCRIPTION:エントリー選手\n林 桐生	共通5000m	15350\n東 汰知	共通5000m	14580\n太田 仁	共通5000m	14450\n髙木 煌介	共通5000m	15350\n宮原 陽太	共通5000m	15350\n木下 柊人	共通5000m	15350\n岩木 愁治	共通5000m	15350\n田上 慶次郎	共通5000m	15350\n川口 璃久	共通5000m	15350\n本庄 陸人	共通5000m	15100\n楠岡 史朗	高校5000mW	21145\n宇都宮　 駿	共通5000m	14350\n坂田 晃悠	共通5000m	15150\n竹下 徳仁	共通5000m	15350\n田中 未来	共通5000m	14450\n中熊 勇輝	共通5000m	15350\n野田 桜翔	共通5000m	16150\n平江 勇盛	共通5000m	15350\n宮永 洸希	共通5000m	15350\n渡邉 太史	共通5000m	14580\n吉川 大翔	高校5000mW	24450
URL:https://keisei-athletics.com/event/%e4%b9%85%e7%95%99%e7%b1%b3%e9%95%b7%e8%b7%9d%e9%9b%a2%e8%a8%98%e9%8c%b2%e4%bc%9a-2/
LOCATION:久留米総合スポーツセンター県立陸上競技場
END:VEVENT
BEGIN:VEVENT
DTSTART;VALUE=DATE:20240303
DTEND;VALUE=DATE:20240304
DTSTAMP:20260421T124415
CREATED:20240116T081634Z
LAST-MODIFIED:20240116T081634Z
UID:353-1709424000-1709510399@keisei-athletics.com
SUMMARY:玉名ハーフマラソン（10K）
DESCRIPTION:
URL:https://keisei-athletics.com/event/%e7%8e%89%e5%90%8d%e3%83%8f%e3%83%bc%e3%83%95%e3%83%9e%e3%83%a9%e3%82%bd%e3%83%b3%ef%bc%8810k%ef%bc%89/
END:VEVENT
BEGIN:VEVENT
DTSTART;VALUE=DATE:20240301
DTEND;VALUE=DATE:20240302
DTSTAMP:20260421T124415
CREATED:20231003T014221Z
LAST-MODIFIED:20231003T014222Z
UID:214-1709251200-1709337599@keisei-athletics.com
SUMMARY:卒業式
DESCRIPTION:
URL:https://keisei-athletics.com/event/%e5%8d%92%e6%a5%ad%e5%bc%8f/
END:VEVENT
BEGIN:VEVENT
DTSTART;VALUE=DATE:20240229
DTEND;VALUE=DATE:20240301
DTSTAMP:20260421T124415
CREATED:20231003T014149Z
LAST-MODIFIED:20231003T014149Z
UID:212-1709164800-1709251199@keisei-athletics.com
SUMMARY:卒業式予行・準備
DESCRIPTION:
URL:https://keisei-athletics.com/event/%e5%8d%92%e6%a5%ad%e5%bc%8f%e4%ba%88%e8%a1%8c%e3%83%bb%e6%ba%96%e5%82%99/
END:VEVENT
BEGIN:VEVENT
DTSTART;VALUE=DATE:20240225
DTEND;VALUE=DATE:20240226
DTSTAMP:20260421T124415
CREATED:20240116T081037Z
LAST-MODIFIED:20240116T081037Z
UID:345-1708819200-1708905599@keisei-athletics.com
SUMMARY:福岡クロカン
DESCRIPTION:林・宇都宮
URL:https://keisei-athletics.com/event/%e7%a6%8f%e5%b2%a1%e3%82%af%e3%83%ad%e3%82%ab%e3%83%b3/
END:VEVENT
BEGIN:VEVENT
DTSTART;VALUE=DATE:20240223
DTEND;VALUE=DATE:20240224
DTSTAMP:20260421T124415
CREATED:20231003T014019Z
LAST-MODIFIED:20231003T014019Z
UID:206-1708646400-1708732799@keisei-athletics.com
SUMMARY:天皇誕生日
DESCRIPTION:
URL:https://keisei-athletics.com/event/%e5%a4%a9%e7%9a%87%e8%aa%95%e7%94%9f%e6%97%a5/
END:VEVENT
BEGIN:VEVENT
DTSTART;VALUE=DATE:20240222
DTEND;VALUE=DATE:20240229
DTSTAMP:20260421T124415
CREATED:20231003T013947Z
LAST-MODIFIED:20231003T013947Z
UID:204-1708560000-1709164799@keisei-athletics.com
SUMMARY:期末考査
DESCRIPTION:
URL:https://keisei-athletics.com/event/%e6%9c%9f%e6%9c%ab%e8%80%83%e6%9f%bb-2/
END:VEVENT
BEGIN:VEVENT
DTSTART;VALUE=DATE:20240218
DTEND;VALUE=DATE:20240219
DTSTAMP:20260421T124415
CREATED:20240116T080941Z
LAST-MODIFIED:20240116T080941Z
UID:343-1708214400-1708300799@keisei-athletics.com
SUMMARY:神戸競歩
DESCRIPTION:
URL:https://keisei-athletics.com/event/%e7%a5%9e%e6%88%b8%e7%ab%b6%e6%ad%a9/
END:VEVENT
BEGIN:VEVENT
DTSTART;VALUE=DATE:20240218
DTEND;VALUE=DATE:20240219
DTSTAMP:20260421T124415
CREATED:20240116T080908Z
LAST-MODIFIED:20240116T080908Z
UID:341-1708214400-1708300799@keisei-athletics.com
SUMMARY:熊本城マラソン
DESCRIPTION:
URL:https://keisei-athletics.com/event/%e7%86%8a%e6%9c%ac%e5%9f%8e%e3%83%9e%e3%83%a9%e3%82%bd%e3%83%b3/
END:VEVENT
BEGIN:VEVENT
DTSTART;VALUE=DATE:20240216
DTEND;VALUE=DATE:20240217
DTSTAMP:20260421T124415
CREATED:20240116T080824Z
LAST-MODIFIED:20240116T080824Z
UID:339-1708041600-1708127999@keisei-athletics.com
SUMMARY:1.2.5授業　合否判定会議
DESCRIPTION:
URL:https://keisei-athletics.com/event/1-2-5%e6%8e%88%e6%a5%ad%e3%80%80%e5%90%88%e5%90%a6%e5%88%a4%e5%ae%9a%e4%bc%9a%e8%ad%b0/
END:VEVENT
BEGIN:VEVENT
DTSTART;VALUE=DATE:20240215
DTEND;VALUE=DATE:20240216
DTSTAMP:20260421T124415
CREATED:20231024T140610Z
LAST-MODIFIED:20231024T140610Z
UID:246-1707955200-1708041599@keisei-athletics.com
SUMMARY:一般生入試
DESCRIPTION:
URL:https://keisei-athletics.com/event/%e4%b8%80%e8%88%ac%e7%94%9f%e5%85%a5%e8%a9%a6/
END:VEVENT
BEGIN:VEVENT
DTSTART;VALUE=DATE:20240214
DTEND;VALUE=DATE:20240215
DTSTAMP:20260421T124415
CREATED:20240116T080739Z
LAST-MODIFIED:20240116T080739Z
UID:337-1707868800-1707955199@keisei-athletics.com
SUMMARY:1.2.5授業　入試準備
DESCRIPTION:
URL:https://keisei-athletics.com/event/1-2-5%e6%8e%88%e6%a5%ad%e3%80%80%e5%85%a5%e8%a9%a6%e6%ba%96%e5%82%99/
END:VEVENT
BEGIN:VEVENT
DTSTART;VALUE=DATE:20240212
DTEND;VALUE=DATE:20240213
DTSTAMP:20260421T124415
CREATED:20240116T081534Z
LAST-MODIFIED:20240116T081534Z
UID:351-1707696000-1707782399@keisei-athletics.com
SUMMARY:陸上競技部送別会18:30
DESCRIPTION:熊本テルサ\nテルサの間
URL:https://keisei-athletics.com/event/%e9%99%b8%e4%b8%8a%e7%ab%b6%e6%8a%80%e9%83%a8%e9%80%81%e5%88%a5%e4%bc%9a1830/
END:VEVENT
BEGIN:VEVENT
DTSTART;VALUE=DATE:20240212
DTEND;VALUE=DATE:20240213
DTSTAMP:20260421T124415
CREATED:20231003T014117Z
LAST-MODIFIED:20231003T014117Z
UID:210-1707696000-1707782399@keisei-athletics.com
SUMMARY:振替休日
DESCRIPTION:
URL:https://keisei-athletics.com/event/%e6%8c%af%e6%9b%bf%e4%bc%91%e6%97%a5/
END:VEVENT
BEGIN:VEVENT
DTSTART;VALUE=DATE:20240211
DTEND;VALUE=DATE:20240212
DTSTAMP:20260421T124415
CREATED:20240116T081246Z
LAST-MODIFIED:20240116T081246Z
UID:349-1707609600-1707695999@keisei-athletics.com
SUMMARY:熊日郡市対抗男子駅伝
DESCRIPTION:
URL:https://keisei-athletics.com/event/%e7%86%8a%e6%97%a5%e9%83%a1%e5%b8%82%e5%af%be%e6%8a%97%e7%94%b7%e5%ad%90%e9%a7%85%e4%bc%9d/
END:VEVENT
BEGIN:VEVENT
DTSTART;VALUE=DATE:20240211
DTEND;VALUE=DATE:20240212
DTSTAMP:20260421T124415
CREATED:20231003T014051Z
LAST-MODIFIED:20231003T014051Z
UID:208-1707609600-1707695999@keisei-athletics.com
SUMMARY:建国記念日
DESCRIPTION:
URL:https://keisei-athletics.com/event/%e5%bb%ba%e5%9b%bd%e8%a8%98%e5%bf%b5%e6%97%a5/
END:VEVENT
BEGIN:VEVENT
DTSTART;VALUE=DATE:20240210
DTEND;VALUE=DATE:20240211
DTSTAMP:20260421T124415
CREATED:20240116T081144Z
LAST-MODIFIED:20240116T081144Z
UID:347-1707523200-1707609599@keisei-athletics.com
SUMMARY:RKK女子駅伝（保護者）
DESCRIPTION:がんばって走ってくださいね
URL:https://keisei-athletics.com/event/rkk%e5%a5%b3%e5%ad%90%e9%a7%85%e4%bc%9d%ef%bc%88%e4%bf%9d%e8%ad%b7%e8%80%85%ef%bc%89/
END:VEVENT
BEGIN:VEVENT
DTSTART;VALUE=DATE:20240203
DTEND;VALUE=DATE:20240204
DTSTAMP:20260421T124415
CREATED:20240116T080614Z
LAST-MODIFIED:20240116T080614Z
UID:335-1706918400-1707004799@keisei-athletics.com
SUMMARY:新人駅伝
DESCRIPTION:えがお健康スタジアム
URL:https://keisei-athletics.com/event/%e6%96%b0%e4%ba%ba%e9%a7%85%e4%bc%9d/
END:VEVENT
END:VCALENDAR