BEGIN:VCALENDAR
VERSION:2.0
PRODID:-//慶誠高等学校 陸上競技部【公式】 - ECPv6.13.2.1//NONSGML v1.0//EN
CALSCALE:GREGORIAN
METHOD:PUBLISH
X-WR-CALNAME:慶誠高等学校 陸上競技部【公式】
X-ORIGINAL-URL:https://keisei-athletics.com
X-WR-CALDESC:慶誠高等学校 陸上競技部【公式】 のイベント
REFRESH-INTERVAL;VALUE=DURATION:PT1H
X-Robots-Tag:noindex
X-PUBLISHED-TTL:PT1H
BEGIN:VTIMEZONE
TZID:Asia/Tokyo
BEGIN:STANDARD
TZOFFSETFROM:+0900
TZOFFSETTO:+0900
TZNAME:JST
DTSTART:20260101T000000
END:STANDARD
END:VTIMEZONE
BEGIN:VEVENT
DTSTART;VALUE=DATE:20260208
DTEND;VALUE=DATE:20260209
DTSTAMP:20260421T034753
CREATED:20250206T014356Z
LAST-MODIFIED:20250206T014356Z
UID:3008-1770508800-1770595199@keisei-athletics.com
SUMMARY:熊日郡市対抗駅伝
DESCRIPTION:（天草～熊本）
URL:https://keisei-athletics.com/event/%e7%86%8a%e6%97%a5%e9%83%a1%e5%b8%82%e5%af%be%e6%8a%97%e9%a7%85%e4%bc%9d/
END:VEVENT
BEGIN:VEVENT
DTSTART;VALUE=DATE:20260215
DTEND;VALUE=DATE:20260216
DTSTAMP:20260421T034753
CREATED:20250206T014425Z
LAST-MODIFIED:20250206T014425Z
UID:3010-1771113600-1771199999@keisei-athletics.com
SUMMARY:熊日30キロ・熊本城マラソン
DESCRIPTION:（熊本）
URL:https://keisei-athletics.com/event/%e7%86%8a%e6%97%a530%e3%82%ad%e3%83%ad%e3%83%bb%e7%86%8a%e6%9c%ac%e5%9f%8e%e3%83%9e%e3%83%a9%e3%82%bd%e3%83%b3/
END:VEVENT
BEGIN:VEVENT
DTSTART;VALUE=DATE:20260308
DTEND;VALUE=DATE:20260309
DTSTAMP:20260421T034753
CREATED:20260121T041946Z
LAST-MODIFIED:20260121T041946Z
UID:6407-1772928000-1773014399@keisei-athletics.com
SUMMARY:阿久根駅伝（選抜メンバー）
DESCRIPTION:
URL:https://keisei-athletics.com/event/%e9%98%bf%e4%b9%85%e6%a0%b9%e9%a7%85%e4%bc%9d%ef%bc%88%e9%81%b8%e6%8a%9c%e3%83%a1%e3%83%b3%e3%83%90%e3%83%bc%ef%bc%89/
END:VEVENT
BEGIN:VEVENT
DTSTART;VALUE=DATE:20260314
DTEND;VALUE=DATE:20260315
DTSTAMP:20260421T034753
CREATED:20260121T042057Z
LAST-MODIFIED:20260121T042230Z
UID:6409-1773446400-1773532799@keisei-athletics.com
SUMMARY:久留米長距離記録会
DESCRIPTION:
URL:https://keisei-athletics.com/event/%e4%b9%85%e7%95%99%e7%b1%b3%e9%95%b7%e8%b7%9d%e9%9b%a2%e8%a8%98%e9%8c%b2%e4%bc%9a-3/
END:VEVENT
BEGIN:VEVENT
DTSTART;VALUE=DATE:20260320
DTEND;VALUE=DATE:20260321
DTSTAMP:20260421T034753
CREATED:20250206T014521Z
LAST-MODIFIED:20250206T014521Z
UID:3014-1773964800-1774051199@keisei-athletics.com
SUMMARY:春季熊本陸協記録会
DESCRIPTION:（えがお健康スタジアム）
URL:https://keisei-athletics.com/event/%e6%98%a5%e5%ad%a3%e7%86%8a%e6%9c%ac%e9%99%b8%e5%8d%94%e8%a8%98%e9%8c%b2%e4%bc%9a-2/
END:VEVENT
BEGIN:VEVENT
DTSTART;VALUE=DATE:20260404
DTEND;VALUE=DATE:20260405
DTSTAMP:20260421T034753
CREATED:20260310T005755Z
LAST-MODIFIED:20260310T005755Z
UID:6446-1775260800-1775347199@keisei-athletics.com
SUMMARY:第272回熊本市陸上競技記録会
DESCRIPTION:
URL:https://keisei-athletics.com/event/%e7%ac%ac272%e5%9b%9e%e7%86%8a%e6%9c%ac%e5%b8%82%e9%99%b8%e4%b8%8a%e7%ab%b6%e6%8a%80%e8%a8%98%e9%8c%b2%e4%bc%9a/
END:VEVENT
BEGIN:VEVENT
DTSTART;VALUE=DATE:20260411
DTEND;VALUE=DATE:20260412
DTSTAMP:20260421T034753
CREATED:20260310T005831Z
LAST-MODIFIED:20260310T005831Z
UID:6448-1775865600-1775951999@keisei-athletics.com
SUMMARY:第34回金栗記念選抜陸上中長距離大会
DESCRIPTION:
URL:https://keisei-athletics.com/event/%e7%ac%ac34%e5%9b%9e%e9%87%91%e6%a0%97%e8%a8%98%e5%bf%b5%e9%81%b8%e6%8a%9c%e9%99%b8%e4%b8%8a%e4%b8%ad%e9%95%b7%e8%b7%9d%e9%9b%a2%e5%a4%a7%e4%bc%9a/
END:VEVENT
BEGIN:VEVENT
DTSTART;VALUE=DATE:20260418
DTEND;VALUE=DATE:20260419
DTSTAMP:20260421T034753
CREATED:20260310T005852Z
LAST-MODIFIED:20260310T005906Z
UID:6450-1776470400-1776556799@keisei-athletics.com
SUMMARY:第45回熊本市陸上競技選手権大会（長距離種目）
DESCRIPTION:
URL:https://keisei-athletics.com/event/%e7%ac%ac45%e5%9b%9e%e7%86%8a%e6%9c%ac%e5%b8%82%e9%99%b8%e4%b8%8a%e7%ab%b6%e6%8a%80%e9%81%b8%e6%89%8b%e6%a8%a9%e5%a4%a7%e4%bc%9a%ef%bc%88%e9%95%b7%e8%b7%9d%e9%9b%a2%e7%a8%ae%e7%9b%ae%ef%bc%89/
END:VEVENT
BEGIN:VEVENT
DTSTART;VALUE=DATE:20260419
DTEND;VALUE=DATE:20260420
DTSTAMP:20260421T034753
CREATED:20260310T005947Z
LAST-MODIFIED:20260310T005947Z
UID:6452-1776556800-1776643199@keisei-athletics.com
SUMMARY:第26回谷口睦生杯八代陸上選手権大会
DESCRIPTION:
URL:https://keisei-athletics.com/event/%e7%ac%ac26%e5%9b%9e%e8%b0%b7%e5%8f%a3%e7%9d%a6%e7%94%9f%e6%9d%af%e5%85%ab%e4%bb%a3%e9%99%b8%e4%b8%8a%e9%81%b8%e6%89%8b%e6%a8%a9%e5%a4%a7%e4%bc%9a-2/
END:VEVENT
BEGIN:VEVENT
DTSTART;VALUE=DATE:20260425
DTEND;VALUE=DATE:20260427
DTSTAMP:20260421T034753
CREATED:20260310T010023Z
LAST-MODIFIED:20260310T010023Z
UID:6454-1777075200-1777247999@keisei-athletics.com
SUMMARY:熊本県陸上選手権兼国スポー次予選
DESCRIPTION:
URL:https://keisei-athletics.com/event/%e7%86%8a%e6%9c%ac%e7%9c%8c%e9%99%b8%e4%b8%8a%e9%81%b8%e6%89%8b%e6%a8%a9%e5%85%bc%e5%9b%bd%e3%82%b9%e3%83%9d%e3%83%bc%e6%ac%a1%e4%ba%88%e9%81%b8/
END:VEVENT
BEGIN:VEVENT
DTSTART;VALUE=DATE:20260429
DTEND;VALUE=DATE:20260430
DTSTAMP:20260421T034753
CREATED:20260310T010049Z
LAST-MODIFIED:20260310T010049Z
UID:6456-1777420800-1777507199@keisei-athletics.com
SUMMARY:第36回私学陸上競技大会
DESCRIPTION:
URL:https://keisei-athletics.com/event/%e7%ac%ac36%e5%9b%9e%e7%a7%81%e5%ad%a6%e9%99%b8%e4%b8%8a%e7%ab%b6%e6%8a%80%e5%a4%a7%e4%bc%9a/
END:VEVENT
BEGIN:VEVENT
DTSTART;VALUE=DATE:20260429
DTEND;VALUE=DATE:20260430
DTSTAMP:20260421T034753
CREATED:20260310T010136Z
LAST-MODIFIED:20260310T010136Z
UID:6458-1777420800-1777507199@keisei-athletics.com
SUMMARY:第59回織田幹雄記念国際陸上競技大会
DESCRIPTION:
URL:https://keisei-athletics.com/event/%e7%ac%ac59%e5%9b%9e%e7%b9%94%e7%94%b0%e5%b9%b9%e9%9b%84%e8%a8%98%e5%bf%b5%e5%9b%bd%e9%9a%9b%e9%99%b8%e4%b8%8a%e7%ab%b6%e6%8a%80%e5%a4%a7%e4%bc%9a-2/
END:VEVENT
BEGIN:VEVENT
DTSTART;VALUE=DATE:20260502
DTEND;VALUE=DATE:20260503
DTSTAMP:20260421T034753
CREATED:20260310T010205Z
LAST-MODIFIED:20260310T010205Z
UID:6460-1777680000-1777766399@keisei-athletics.com
SUMMARY:第45回熊本市陸上競技選手権大会（長距離種目以外）
DESCRIPTION:
URL:https://keisei-athletics.com/event/%e7%ac%ac45%e5%9b%9e%e7%86%8a%e6%9c%ac%e5%b8%82%e9%99%b8%e4%b8%8a%e7%ab%b6%e6%8a%80%e9%81%b8%e6%89%8b%e6%a8%a9%e5%a4%a7%e4%bc%9a%ef%bc%88%e9%95%b7%e8%b7%9d%e9%9b%a2%e7%a8%ae%e7%9b%ae%e4%bb%a5%e5%a4%96/
END:VEVENT
BEGIN:VEVENT
DTSTART;VALUE=DATE:20260509
DTEND;VALUE=DATE:20260510
DTSTAMP:20260421T034753
CREATED:20260310T010229Z
LAST-MODIFIED:20260310T010229Z
UID:6462-1778284800-1778371199@keisei-athletics.com
SUMMARY:第1回長距離記録会
DESCRIPTION:
URL:https://keisei-athletics.com/event/%e7%ac%ac1%e5%9b%9e%e9%95%b7%e8%b7%9d%e9%9b%a2%e8%a8%98%e9%8c%b2%e4%bc%9a-2/
END:VEVENT
BEGIN:VEVENT
DTSTART;VALUE=DATE:20260529
DTEND;VALUE=DATE:20260602
DTSTAMP:20260421T034753
CREATED:20260310T010258Z
LAST-MODIFIED:20260310T010258Z
UID:6464-1780012800-1780358399@keisei-athletics.com
SUMMARY:令和8年度熊本県高等学校総合体育大会
DESCRIPTION:
URL:https://keisei-athletics.com/event/%e4%bb%a4%e5%92%8c8%e5%b9%b4%e5%ba%a6%e7%86%8a%e6%9c%ac%e7%9c%8c%e9%ab%98%e7%ad%89%e5%ad%a6%e6%a0%a1%e7%b7%8f%e5%90%88%e4%bd%93%e8%82%b2%e5%a4%a7%e4%bc%9a/
END:VEVENT
END:VCALENDAR