BEGIN:VCALENDAR
VERSION:2.0
PRODID:-//慶誠高等学校 陸上競技部【公式】 - ECPv6.13.2.1//NONSGML v1.0//EN
CALSCALE:GREGORIAN
METHOD:PUBLISH
X-WR-CALNAME:慶誠高等学校 陸上競技部【公式】
X-ORIGINAL-URL:https://keisei-athletics.com
X-WR-CALDESC:慶誠高等学校 陸上競技部【公式】 のイベント
REFRESH-INTERVAL;VALUE=DURATION:PT1H
X-Robots-Tag:noindex
X-PUBLISHED-TTL:PT1H
BEGIN:VTIMEZONE
TZID:Asia/Tokyo
BEGIN:STANDARD
TZOFFSETFROM:+0900
TZOFFSETTO:+0900
TZNAME:JST
DTSTART:20240101T000000
END:STANDARD
END:VTIMEZONE
BEGIN:VEVENT
DTSTART;VALUE=DATE:20240301
DTEND;VALUE=DATE:20240302
DTSTAMP:20260422T161644
CREATED:20231003T014221Z
LAST-MODIFIED:20231003T014222Z
UID:214-1709251200-1709337599@keisei-athletics.com
SUMMARY:卒業式
DESCRIPTION:
URL:https://keisei-athletics.com/event/%e5%8d%92%e6%a5%ad%e5%bc%8f/
END:VEVENT
BEGIN:VEVENT
DTSTART;VALUE=DATE:20240303
DTEND;VALUE=DATE:20240304
DTSTAMP:20260422T161644
CREATED:20240116T081634Z
LAST-MODIFIED:20240116T081634Z
UID:353-1709424000-1709510399@keisei-athletics.com
SUMMARY:玉名ハーフマラソン（10K）
DESCRIPTION:
URL:https://keisei-athletics.com/event/%e7%8e%89%e5%90%8d%e3%83%8f%e3%83%bc%e3%83%95%e3%83%9e%e3%83%a9%e3%82%bd%e3%83%b3%ef%bc%8810k%ef%bc%89/
END:VEVENT
BEGIN:VEVENT
DTSTART;VALUE=DATE:20240316
DTEND;VALUE=DATE:20240317
DTSTAMP:20260422T161644
CREATED:20240220T050446Z
LAST-MODIFIED:20240220T055032Z
UID:460-1710547200-1710633599@keisei-athletics.com
SUMMARY:久留米長距離記録会
DESCRIPTION:エントリー選手\n林 桐生	共通5000m	15350\n東 汰知	共通5000m	14580\n太田 仁	共通5000m	14450\n髙木 煌介	共通5000m	15350\n宮原 陽太	共通5000m	15350\n木下 柊人	共通5000m	15350\n岩木 愁治	共通5000m	15350\n田上 慶次郎	共通5000m	15350\n川口 璃久	共通5000m	15350\n本庄 陸人	共通5000m	15100\n楠岡 史朗	高校5000mW	21145\n宇都宮　 駿	共通5000m	14350\n坂田 晃悠	共通5000m	15150\n竹下 徳仁	共通5000m	15350\n田中 未来	共通5000m	14450\n中熊 勇輝	共通5000m	15350\n野田 桜翔	共通5000m	16150\n平江 勇盛	共通5000m	15350\n宮永 洸希	共通5000m	15350\n渡邉 太史	共通5000m	14580\n吉川 大翔	高校5000mW	24450
URL:https://keisei-athletics.com/event/%e4%b9%85%e7%95%99%e7%b1%b3%e9%95%b7%e8%b7%9d%e9%9b%a2%e8%a8%98%e9%8c%b2%e4%bc%9a-2/
LOCATION:久留米総合スポーツセンター県立陸上競技場
END:VEVENT
BEGIN:VEVENT
DTSTART;VALUE=DATE:20240317
DTEND;VALUE=DATE:20240318
DTSTAMP:20260422T161644
CREATED:20240201T052158Z
LAST-MODIFIED:20240220T050305Z
UID:404-1710633600-1710719999@keisei-athletics.com
SUMMARY:長崎県陸上競技記録会
DESCRIPTION:出場なし
URL:https://keisei-athletics.com/event/%e9%95%b7%e5%b4%8e%e7%9c%8c%e9%99%b8%e4%b8%8a%e7%ab%b6%e6%8a%80%e8%a8%98%e9%8c%b2%e4%bc%9a/
END:VEVENT
BEGIN:VEVENT
DTSTART;VALUE=DATE:20240320
DTEND;VALUE=DATE:20240321
DTSTAMP:20260422T161644
CREATED:20231003T014253Z
LAST-MODIFIED:20231003T014253Z
UID:216-1710892800-1710979199@keisei-athletics.com
SUMMARY:春分の日
DESCRIPTION:
URL:https://keisei-athletics.com/event/%e6%98%a5%e5%88%86%e3%81%ae%e6%97%a5/
END:VEVENT
BEGIN:VEVENT
DTSTART;VALUE=DATE:20240322
DTEND;VALUE=DATE:20240323
DTSTAMP:20260422T161644
CREATED:20231003T014320Z
LAST-MODIFIED:20231003T014320Z
UID:218-1711065600-1711151999@keisei-athletics.com
SUMMARY:修了式
DESCRIPTION:
URL:https://keisei-athletics.com/event/%e4%bf%ae%e4%ba%86%e5%bc%8f/
END:VEVENT
BEGIN:VEVENT
DTSTART;VALUE=DATE:20240323
DTEND;VALUE=DATE:20240324
DTSTAMP:20260422T161644
CREATED:20240318T040126Z
LAST-MODIFIED:20240318T040126Z
UID:632-1711152000-1711238399@keisei-athletics.com
SUMMARY:春季陸協記録会
DESCRIPTION:競歩・短距離のみ
URL:https://keisei-athletics.com/event/%e6%98%a5%e5%ad%a3%e9%99%b8%e5%8d%94%e8%a8%98%e9%8c%b2%e4%bc%9a/
END:VEVENT
BEGIN:VEVENT
DTSTART;VALUE=DATE:20240323
DTEND;VALUE=DATE:20240325
DTSTAMP:20260422T161644
CREATED:20240201T052354Z
LAST-MODIFIED:20240201T052509Z
UID:406-1711152000-1711324799@keisei-athletics.com
SUMMARY:大牟田春季記録会
DESCRIPTION:２３日\n200m\n800m\n3000m\n1600mR \n２４日\n100m\n400m\n400R
URL:https://keisei-athletics.com/event/%e5%a4%a7%e7%89%9f%e7%94%b0%e6%98%a5%e5%ad%a3%e8%a8%98%e9%8c%b2%e4%bc%9a/
END:VEVENT
BEGIN:VEVENT
DTSTART;VALUE=DATE:20240327
DTEND;VALUE=DATE:20240401
DTSTAMP:20260422T161644
CREATED:20240220T004456Z
LAST-MODIFIED:20240220T004456Z
UID:456-1711497600-1711929599@keisei-athletics.com
SUMMARY:阿蘇合宿
DESCRIPTION:角萬
URL:https://keisei-athletics.com/event/%e9%98%bf%e8%98%87%e5%90%88%e5%ae%bf/
END:VEVENT
END:VCALENDAR