BEGIN:VCALENDAR
VERSION:2.0
PRODID:-//慶誠高等学校 陸上競技部【公式】 - ECPv6.13.2.1//NONSGML v1.0//EN
CALSCALE:GREGORIAN
METHOD:PUBLISH
X-ORIGINAL-URL:https://keisei-athletics.com
X-WR-CALDESC:慶誠高等学校 陸上競技部【公式】 のイベント
REFRESH-INTERVAL;VALUE=DURATION:PT1H
X-Robots-Tag:noindex
X-PUBLISHED-TTL:PT1H
BEGIN:VTIMEZONE
TZID:Asia/Tokyo
BEGIN:STANDARD
TZOFFSETFROM:+0900
TZOFFSETTO:+0900
TZNAME:JST
DTSTART:20240101T000000
END:STANDARD
END:VTIMEZONE
BEGIN:VEVENT
DTSTART;VALUE=DATE:20240706
DTEND;VALUE=DATE:20240707
DTSTAMP:20260422T091344
CREATED:20240201T042052Z
LAST-MODIFIED:20240201T042052Z
UID:368-1720224000-1720310399@keisei-athletics.com
SUMMARY:第2回熊本県長距離記録会
DESCRIPTION:えがお健康スタジアム
URL:https://keisei-athletics.com/event/%e7%ac%ac2%e5%9b%9e%e7%86%8a%e6%9c%ac%e7%9c%8c%e9%95%b7%e8%b7%9d%e9%9b%a2%e8%a8%98%e9%8c%b2%e4%bc%9a/
END:VEVENT
BEGIN:VEVENT
DTSTART;VALUE=DATE:20240706
DTEND;VALUE=DATE:20240708
DTSTAMP:20260422T091344
CREATED:20240313T052631Z
LAST-MODIFIED:20240313T052631Z
UID:601-1720224000-1720396799@keisei-athletics.com
SUMMARY:日体大長距離記録会
DESCRIPTION:
URL:https://keisei-athletics.com/event/%e6%97%a5%e4%bd%93%e5%a4%a7%e9%95%b7%e8%b7%9d%e9%9b%a2%e8%a8%98%e9%8c%b2%e4%bc%9a-4/
END:VEVENT
BEGIN:VEVENT
DTSTART;VALUE=DATE:20240713
DTEND;VALUE=DATE:20240715
DTSTAMP:20260422T091344
CREATED:20240201T042136Z
LAST-MODIFIED:20240201T042136Z
UID:370-1720828800-1721001599@keisei-athletics.com
SUMMARY:国民スポーツ大会最終予選
DESCRIPTION:えがお健康スタジアム
URL:https://keisei-athletics.com/event/%e5%9b%bd%e6%b0%91%e3%82%b9%e3%83%9d%e3%83%bc%e3%83%84%e5%a4%a7%e4%bc%9a%e6%9c%80%e7%b5%82%e4%ba%88%e9%81%b8/
END:VEVENT
BEGIN:VEVENT
DTSTART;VALUE=DATE:20240719
DTEND;VALUE=DATE:20240720
DTSTAMP:20260422T091344
CREATED:20240313T053056Z
LAST-MODIFIED:20240313T053056Z
UID:609-1721347200-1721433599@keisei-athletics.com
SUMMARY:終業式
DESCRIPTION:
URL:https://keisei-athletics.com/event/%e7%b5%82%e6%a5%ad%e5%bc%8f-2/
END:VEVENT
BEGIN:VEVENT
DTSTART;VALUE=DATE:20240722
DTEND;VALUE=DATE:20240726
DTSTAMP:20260422T091344
CREATED:20240626T102510Z
LAST-MODIFIED:20240626T105148Z
UID:1013-1721606400-1721951999@keisei-athletics.com
SUMMARY:夏合宿（全体）
DESCRIPTION:
URL:https://keisei-athletics.com/event/%e5%a4%8f%e5%90%88%e5%ae%bf%ef%bc%88%e5%85%a8%e4%bd%93%ef%bc%89/
END:VEVENT
BEGIN:VEVENT
DTSTART;VALUE=DATE:20240727
DTEND;VALUE=DATE:20240728
DTSTAMP:20260422T091344
CREATED:20240209T013345Z
LAST-MODIFIED:20240209T013345Z
UID:430-1722038400-1722124799@keisei-athletics.com
SUMMARY:熊本市陸上競技記録会
DESCRIPTION:えがお健康スタジアム
URL:https://keisei-athletics.com/event/%e7%86%8a%e6%9c%ac%e5%b8%82%e9%99%b8%e4%b8%8a%e7%ab%b6%e6%8a%80%e8%a8%98%e9%8c%b2%e4%bc%9a/
END:VEVENT
BEGIN:VEVENT
DTSTART;VALUE=DATE:20240727
DTEND;VALUE=DATE:20240728
DTSTAMP:20260422T091344
CREATED:20240313T043952Z
LAST-MODIFIED:20240313T043952Z
UID:559-1722038400-1722124799@keisei-athletics.com
SUMMARY:スターナイトチャレンジinこばやし
DESCRIPTION:
URL:https://keisei-athletics.com/event/%e3%82%b9%e3%82%bf%e3%83%bc%e3%83%8a%e3%82%a4%e3%83%88%e3%83%81%e3%83%a3%e3%83%ac%e3%83%b3%e3%82%b8in%e3%81%93%e3%81%b0%e3%82%84%e3%81%97/
END:VEVENT
BEGIN:VEVENT
DTSTART;VALUE=DATE:20240727
DTEND;VALUE=DATE:20240731
DTSTAMP:20260422T091344
CREATED:20240208T055013Z
LAST-MODIFIED:20240619T053024Z
UID:423-1722038400-1722383999@keisei-athletics.com
SUMMARY:全国高校総体（福岡）
DESCRIPTION:博多の森
URL:https://keisei-athletics.com/event/%e5%85%a8%e5%9b%bd%e9%ab%98%e6%a0%a1%e7%b7%8f%e4%bd%93%ef%bc%88%e7%a6%8f%e5%b2%a1%ef%bc%89/
END:VEVENT
END:VCALENDAR