BEGIN:VCALENDAR
VERSION:2.0
PRODID:-//慶誠高等学校 陸上競技部【公式】 - ECPv6.13.2.1//NONSGML v1.0//EN
CALSCALE:GREGORIAN
METHOD:PUBLISH
X-ORIGINAL-URL:https://keisei-athletics.com
X-WR-CALDESC:慶誠高等学校 陸上競技部【公式】 のイベント
REFRESH-INTERVAL;VALUE=DURATION:PT1H
X-Robots-Tag:noindex
X-PUBLISHED-TTL:PT1H
BEGIN:VTIMEZONE
TZID:Asia/Tokyo
BEGIN:STANDARD
TZOFFSETFROM:+0900
TZOFFSETTO:+0900
TZNAME:JST
DTSTART:20240101T000000
END:STANDARD
END:VTIMEZONE
BEGIN:VEVENT
DTSTART;VALUE=DATE:20241130
DTEND;VALUE=DATE:20241202
DTSTAMP:20260422T003126
CREATED:20240313T052747Z
LAST-MODIFIED:20240313T052747Z
UID:605-1732924800-1733097599@keisei-athletics.com
SUMMARY:日体大長距離記録会
DESCRIPTION:
URL:https://keisei-athletics.com/event/%e6%97%a5%e4%bd%93%e5%a4%a7%e9%95%b7%e8%b7%9d%e9%9b%a2%e8%a8%98%e9%8c%b2%e4%bc%9a-6/
END:VEVENT
BEGIN:VEVENT
DTSTART;VALUE=DATE:20241207
DTEND;VALUE=DATE:20241208
DTSTAMP:20260422T003126
CREATED:20240201T044956Z
LAST-MODIFIED:20240201T044956Z
UID:388-1733529600-1733615999@keisei-athletics.com
SUMMARY:第4回熊本県長距離記録会
DESCRIPTION:えがお健康スタジアム
URL:https://keisei-athletics.com/event/%e7%ac%ac4%e5%9b%9e%e7%86%8a%e6%9c%ac%e7%9c%8c%e9%95%b7%e8%b7%9d%e9%9b%a2%e8%a8%98%e9%8c%b2%e4%bc%9a/
END:VEVENT
BEGIN:VEVENT
DTSTART;VALUE=DATE:20241224
DTEND;VALUE=DATE:20241225
DTSTAMP:20260422T003126
CREATED:20240313T053403Z
LAST-MODIFIED:20240313T053403Z
UID:617-1734998400-1735084799@keisei-athletics.com
SUMMARY:終業式
DESCRIPTION:
URL:https://keisei-athletics.com/event/%e7%b5%82%e6%a5%ad%e5%bc%8f-3/
END:VEVENT
BEGIN:VEVENT
DTSTART;VALUE=DATE:20241228
DTEND;VALUE=DATE:20241229
DTSTAMP:20260422T003126
CREATED:20240201T045037Z
LAST-MODIFIED:20240201T045037Z
UID:390-1735344000-1735430399@keisei-athletics.com
SUMMARY:第4回益城公認ロードレース
DESCRIPTION:
URL:https://keisei-athletics.com/event/%e7%ac%ac4%e5%9b%9e%e7%9b%8a%e5%9f%8e%e5%85%ac%e8%aa%8d%e3%83%ad%e3%83%bc%e3%83%89%e3%83%ac%e3%83%bc%e3%82%b9/
END:VEVENT
BEGIN:VEVENT
DTSTART;VALUE=DATE:20241228
DTEND;VALUE=DATE:20241229
DTSTAMP:20260422T003126
CREATED:20240317T012956Z
LAST-MODIFIED:20240317T012956Z
UID:626-1735344000-1735430399@keisei-athletics.com
SUMMARY:熊本市ロードレース大会
DESCRIPTION:
URL:https://keisei-athletics.com/event/%e7%86%8a%e6%9c%ac%e5%b8%82%e3%83%ad%e3%83%bc%e3%83%89%e3%83%ac%e3%83%bc%e3%82%b9%e5%a4%a7%e4%bc%9a/
END:VEVENT
BEGIN:VEVENT
DTSTART;VALUE=DATE:20241229
DTEND;VALUE=DATE:20250105
DTSTAMP:20260422T003126
CREATED:20241213T063113Z
LAST-MODIFIED:20241213T063113Z
UID:2584-1735430400-1736035199@keisei-athletics.com
SUMMARY:正月休み12/29~1/4
DESCRIPTION:
URL:https://keisei-athletics.com/event/%e6%ad%a3%e6%9c%88%e4%bc%91%e3%81%bf12-291-4/
END:VEVENT
END:VCALENDAR