BEGIN:VCALENDAR
VERSION:2.0
PRODID:-//慶誠高等学校 陸上競技部【公式】 - ECPv6.13.2.1//NONSGML v1.0//EN
CALSCALE:GREGORIAN
METHOD:PUBLISH
X-ORIGINAL-URL:https://keisei-athletics.com
X-WR-CALDESC:慶誠高等学校 陸上競技部【公式】 のイベント
REFRESH-INTERVAL;VALUE=DURATION:PT1H
X-Robots-Tag:noindex
X-PUBLISHED-TTL:PT1H
BEGIN:VTIMEZONE
TZID:Asia/Tokyo
BEGIN:STANDARD
TZOFFSETFROM:+0900
TZOFFSETTO:+0900
TZNAME:JST
DTSTART:20250101T000000
END:STANDARD
END:VTIMEZONE
BEGIN:VEVENT
DTSTART;VALUE=DATE:20250201
DTEND;VALUE=DATE:20250202
DTSTAMP:20260421T211418
CREATED:20241120T071208Z
LAST-MODIFIED:20241120T071208Z
UID:2566-1738368000-1738454399@keisei-athletics.com
SUMMARY:新人駅伝
DESCRIPTION:
URL:https://keisei-athletics.com/event/%e6%96%b0%e4%ba%ba%e9%a7%85%e4%bc%9d-2/
END:VEVENT
BEGIN:VEVENT
DTSTART;VALUE=DATE:20250209
DTEND;VALUE=DATE:20250210
DTSTAMP:20260421T211418
CREATED:20240201T045219Z
LAST-MODIFIED:20241118T033133Z
UID:394-1739059200-1739145599@keisei-athletics.com
SUMMARY:第51回郡市対抗熊日駅伝
DESCRIPTION:
URL:https://keisei-athletics.com/event/%e9%83%a1%e5%b8%82%e5%af%be%e6%8a%97%e7%94%b7%e5%ad%90%e9%a7%85%e4%bc%9d/
END:VEVENT
BEGIN:VEVENT
DTSTART;VALUE=DATE:20250211
DTEND;VALUE=DATE:20250212
DTSTAMP:20260421T211418
CREATED:20241230T123646Z
LAST-MODIFIED:20241230T123646Z
UID:2601-1739232000-1739318399@keisei-athletics.com
SUMMARY:送別会１８：００
DESCRIPTION:
URL:https://keisei-athletics.com/event/%e9%80%81%e5%88%a5%e4%bc%9a%ef%bc%91%ef%bc%98%ef%bc%9a%ef%bc%90%ef%bc%90/
END:VEVENT
BEGIN:VEVENT
DTSTART;TZID=Asia/Tokyo:20250213T080000
DTEND;TZID=Asia/Tokyo:20250213T170000
DTSTAMP:20260421T211418
CREATED:20241230T123731Z
LAST-MODIFIED:20241230T123731Z
UID:2603-1739433600-1739466000@keisei-athletics.com
SUMMARY:1/2/5授業　入試準備
DESCRIPTION:
URL:https://keisei-athletics.com/event/1-2-5%e6%8e%88%e6%a5%ad%e3%80%80%e5%85%a5%e8%a9%a6%e6%ba%96%e5%82%99-2/
END:VEVENT
BEGIN:VEVENT
DTSTART;VALUE=DATE:20250214
DTEND;VALUE=DATE:20250215
DTSTAMP:20260421T211418
CREATED:20241230T123753Z
LAST-MODIFIED:20241230T123753Z
UID:2605-1739491200-1739577599@keisei-athletics.com
SUMMARY:一般入試
DESCRIPTION:
URL:https://keisei-athletics.com/event/%e4%b8%80%e8%88%ac%e5%85%a5%e8%a9%a6/
END:VEVENT
BEGIN:VEVENT
DTSTART;VALUE=DATE:20250216
DTEND;VALUE=DATE:20250217
DTSTAMP:20260421T211418
CREATED:20240201T045254Z
LAST-MODIFIED:20240201T045254Z
UID:396-1739664000-1739750399@keisei-athletics.com
SUMMARY:熊本城マラソン
DESCRIPTION:
URL:https://keisei-athletics.com/event/%e7%86%8a%e6%9c%ac%e5%9f%8e%e3%83%9e%e3%83%a9%e3%82%bd%e3%83%b3-2/
END:VEVENT
BEGIN:VEVENT
DTSTART;VALUE=DATE:20250217
DTEND;VALUE=DATE:20250218
DTSTAMP:20260421T211418
CREATED:20241230T123839Z
LAST-MODIFIED:20241230T123839Z
UID:2607-1739750400-1739836799@keisei-athletics.com
SUMMARY:入試会議・登校なし
DESCRIPTION:
URL:https://keisei-athletics.com/event/%e5%85%a5%e8%a9%a6%e4%bc%9a%e8%ad%b0%e3%83%bb%e7%99%bb%e6%a0%a1%e3%81%aa%e3%81%97/
END:VEVENT
BEGIN:VEVENT
DTSTART;VALUE=DATE:20250221
DTEND;VALUE=DATE:20250228
DTSTAMP:20260421T211418
CREATED:20240321T001918Z
LAST-MODIFIED:20240321T001918Z
UID:643-1740096000-1740700799@keisei-athletics.com
SUMMARY:期末考査
DESCRIPTION:
URL:https://keisei-athletics.com/event/%e6%9c%9f%e6%9c%ab%e8%80%83%e6%9f%bb-4/
END:VEVENT
END:VCALENDAR