BEGIN:VCALENDAR
VERSION:2.0
PRODID:-//慶誠高等学校 陸上競技部【公式】 - ECPv6.13.2.1//NONSGML v1.0//EN
CALSCALE:GREGORIAN
METHOD:PUBLISH
X-ORIGINAL-URL:https://keisei-athletics.com
X-WR-CALDESC:慶誠高等学校 陸上競技部【公式】 のイベント
REFRESH-INTERVAL;VALUE=DURATION:PT1H
X-Robots-Tag:noindex
X-PUBLISHED-TTL:PT1H
BEGIN:VTIMEZONE
TZID:Asia/Tokyo
BEGIN:STANDARD
TZOFFSETFROM:+0900
TZOFFSETTO:+0900
TZNAME:JST
DTSTART:20250101T000000
END:STANDARD
END:VTIMEZONE
BEGIN:VEVENT
DTSTART;VALUE=DATE:20250412
DTEND;VALUE=DATE:20250413
DTSTAMP:20260421T175858
CREATED:20250206T012845Z
LAST-MODIFIED:20250206T012845Z
UID:2969-1744416000-1744502399@keisei-athletics.com
SUMMARY:第33回金栗記念選抜陸上中長距離大会
DESCRIPTION:（えがお健康スタジアム）
URL:https://keisei-athletics.com/event/%e7%ac%ac33%e5%9b%9e%e9%87%91%e6%a0%97%e8%a8%98%e5%bf%b5%e9%81%b8%e6%8a%9c%e9%99%b8%e4%b8%8a%e4%b8%ad%e9%95%b7%e8%b7%9d%e9%9b%a2%e5%a4%a7%e4%bc%9a/
LOCATION:えがお
END:VEVENT
BEGIN:VEVENT
DTSTART;VALUE=DATE:20250419
DTEND;VALUE=DATE:20250420
DTSTAMP:20260421T175858
CREATED:20250206T023513Z
LAST-MODIFIED:20250206T023513Z
UID:3016-1745020800-1745107199@keisei-athletics.com
SUMMARY:第44回熊本市陸上競技選手権大会（長距離種目）
DESCRIPTION:水前寺
URL:https://keisei-athletics.com/event/%e7%ac%ac44%e5%9b%9e%e7%86%8a%e6%9c%ac%e5%b8%82%e9%99%b8%e4%b8%8a%e7%ab%b6%e6%8a%80%e9%81%b8%e6%89%8b%e6%a8%a9%e5%a4%a7%e4%bc%9a%ef%bc%88%e9%95%b7%e8%b7%9d%e9%9b%a2%e7%a8%ae%e7%9b%ae%ef%bc%89/
END:VEVENT
BEGIN:VEVENT
DTSTART;VALUE=DATE:20250420
DTEND;VALUE=DATE:20250421
DTSTAMP:20260421T175858
CREATED:20250206T023546Z
LAST-MODIFIED:20250206T054857Z
UID:3018-1745107200-1745193599@keisei-athletics.com
SUMMARY:第26回谷口睦生杯八代陸上選手権大会
DESCRIPTION:県営八代
URL:https://keisei-athletics.com/event/%e7%ac%ac26%e5%9b%9e%e8%b0%b7%e5%8f%a3%e7%9d%a6%e7%94%9f%e6%9d%af%e5%85%ab%e4%bb%a3%e9%99%b8%e4%b8%8a%e9%81%b8%e6%89%8b%e6%a8%a9%e5%a4%a7%e4%bc%9a/
END:VEVENT
BEGIN:VEVENT
DTSTART;VALUE=DATE:20250426
DTEND;VALUE=DATE:20250428
DTSTAMP:20260421T175858
CREATED:20250206T012921Z
LAST-MODIFIED:20250206T012921Z
UID:2972-1745625600-1745798399@keisei-athletics.com
SUMMARY:熊本県選手権兼国スポ一次予選
DESCRIPTION:（えがお健康スタジアム）
URL:https://keisei-athletics.com/event/%e7%86%8a%e6%9c%ac%e7%9c%8c%e9%81%b8%e6%89%8b%e6%a8%a9%e5%85%bc%e5%9b%bd%e3%82%b9%e3%83%9d%e4%b8%80%e6%ac%a1%e4%ba%88%e9%81%b8/
END:VEVENT
BEGIN:VEVENT
DTSTART;VALUE=DATE:20250429
DTEND;VALUE=DATE:20250430
DTSTAMP:20260421T175858
CREATED:20250206T013132Z
LAST-MODIFIED:20250206T055016Z
UID:2976-1745884800-1745971199@keisei-athletics.com
SUMMARY:歓迎会18：00
DESCRIPTION:ザ スタイル オブ エクセレント
URL:https://keisei-athletics.com/event/%e6%ad%93%e8%bf%8e%e4%bc%9a/
END:VEVENT
BEGIN:VEVENT
DTSTART;VALUE=DATE:20250429
DTEND;VALUE=DATE:20250430
DTSTAMP:20260421T175858
CREATED:20250206T012959Z
LAST-MODIFIED:20250206T012959Z
UID:2974-1745884800-1745971199@keisei-athletics.com
SUMMARY:第35回私学陸上
DESCRIPTION:（水前寺競技場）
URL:https://keisei-athletics.com/event/%e7%ac%ac35%e5%9b%9e%e7%a7%81%e5%ad%a6%e9%99%b8%e4%b8%8a/
END:VEVENT
BEGIN:VEVENT
DTSTART;VALUE=DATE:20250429
DTEND;VALUE=DATE:20250430
DTSTAMP:20260421T175858
CREATED:20250206T023633Z
LAST-MODIFIED:20250206T023633Z
UID:3020-1745884800-1745971199@keisei-athletics.com
SUMMARY:第59回織田幹雄記念国際陸上競技大会
DESCRIPTION:広島・広島広域公園陸上競技場
URL:https://keisei-athletics.com/event/%e7%ac%ac59%e5%9b%9e%e7%b9%94%e7%94%b0%e5%b9%b9%e9%9b%84%e8%a8%98%e5%bf%b5%e5%9b%bd%e9%9a%9b%e9%99%b8%e4%b8%8a%e7%ab%b6%e6%8a%80%e5%a4%a7%e4%bc%9a/
END:VEVENT
END:VCALENDAR