BEGIN:VCALENDAR
VERSION:2.0
PRODID:-//慶誠高等学校 陸上競技部【公式】 - ECPv6.13.2.1//NONSGML v1.0//EN
CALSCALE:GREGORIAN
METHOD:PUBLISH
X-WR-CALNAME:慶誠高等学校 陸上競技部【公式】
X-ORIGINAL-URL:https://keisei-athletics.com
X-WR-CALDESC:慶誠高等学校 陸上競技部【公式】 のイベント
REFRESH-INTERVAL;VALUE=DURATION:PT1H
X-Robots-Tag:noindex
X-PUBLISHED-TTL:PT1H
BEGIN:VTIMEZONE
TZID:Asia/Tokyo
BEGIN:STANDARD
TZOFFSETFROM:+0900
TZOFFSETTO:+0900
TZNAME:JST
DTSTART:20250101T000000
END:STANDARD
END:VTIMEZONE
BEGIN:VEVENT
DTSTART;VALUE=DATE:20250503
DTEND;VALUE=DATE:20250504
DTSTAMP:20260421T160626
CREATED:20250206T023712Z
LAST-MODIFIED:20250206T023712Z
UID:3022-1746230400-1746316799@keisei-athletics.com
SUMMARY:第44回熊本市陸上競技選手権大会（長距離種目以外）
DESCRIPTION:えがお
URL:https://keisei-athletics.com/event/%e7%ac%ac44%e5%9b%9e%e7%86%8a%e6%9c%ac%e5%b8%82%e9%99%b8%e4%b8%8a%e7%ab%b6%e6%8a%80%e9%81%b8%e6%89%8b%e6%a8%a9%e5%a4%a7%e4%bc%9a%ef%bc%88%e9%95%b7%e8%b7%9d%e9%9b%a2%e7%a8%ae%e7%9b%ae%e4%bb%a5%e5%a4%96/
END:VEVENT
BEGIN:VEVENT
DTSTART;VALUE=DATE:20250503
DTEND;VALUE=DATE:20250505
DTSTAMP:20260421T160626
CREATED:20250206T023752Z
LAST-MODIFIED:20250206T023752Z
UID:3024-1746230400-1746403199@keisei-athletics.com
SUMMARY:第50回天草陸上競技選手権大会
DESCRIPTION:あましん
URL:https://keisei-athletics.com/event/%e7%ac%ac50%e5%9b%9e%e5%a4%a9%e8%8d%89%e9%99%b8%e4%b8%8a%e7%ab%b6%e6%8a%80%e9%81%b8%e6%89%8b%e6%a8%a9%e5%a4%a7%e4%bc%9a/
END:VEVENT
BEGIN:VEVENT
DTSTART;VALUE=DATE:20250504
DTEND;VALUE=DATE:20250505
DTSTAMP:20260421T160626
CREATED:20250206T023827Z
LAST-MODIFIED:20250206T023827Z
UID:3026-1746316800-1746403199@keisei-athletics.com
SUMMARY:第36回ゴールデンゲームズinのべおか
DESCRIPTION:宮崎・延岡市西階陸上競技場
URL:https://keisei-athletics.com/event/%e7%ac%ac36%e5%9b%9e%e3%82%b4%e3%83%bc%e3%83%ab%e3%83%87%e3%83%b3%e3%82%b2%e3%83%bc%e3%83%a0%e3%82%bain%e3%81%ae%e3%81%b9%e3%81%8a%e3%81%8b/
END:VEVENT
BEGIN:VEVENT
DTSTART;VALUE=DATE:20250510
DTEND;VALUE=DATE:20250511
DTSTAMP:20260421T160626
CREATED:20250206T013203Z
LAST-MODIFIED:20250206T013203Z
UID:2978-1746835200-1746921599@keisei-athletics.com
SUMMARY:第1回長距離記録会
DESCRIPTION:（えがお健康スタジアム）
URL:https://keisei-athletics.com/event/%e7%ac%ac1%e5%9b%9e%e9%95%b7%e8%b7%9d%e9%9b%a2%e8%a8%98%e9%8c%b2%e4%bc%9a/
END:VEVENT
BEGIN:VEVENT
DTSTART;VALUE=DATE:20250510
DTEND;VALUE=DATE:20250511
DTSTAMP:20260421T160626
CREATED:20250206T023904Z
LAST-MODIFIED:20250206T023904Z
UID:3028-1746835200-1746921599@keisei-athletics.com
SUMMARY:第1回熊本県跳躍記録会
DESCRIPTION:えがお
URL:https://keisei-athletics.com/event/%e7%ac%ac1%e5%9b%9e%e7%86%8a%e6%9c%ac%e7%9c%8c%e8%b7%b3%e8%ba%8d%e8%a8%98%e9%8c%b2%e4%bc%9a/
END:VEVENT
BEGIN:VEVENT
DTSTART;VALUE=DATE:20250524
DTEND;VALUE=DATE:20250525
DTSTAMP:20260421T160626
CREATED:20250206T024308Z
LAST-MODIFIED:20250206T024308Z
UID:3030-1748044800-1748131199@keisei-athletics.com
SUMMARY:第269回熊本市陸上競技記録会
DESCRIPTION:えがお
URL:https://keisei-athletics.com/event/%e7%ac%ac269%e5%9b%9e%e7%86%8a%e6%9c%ac%e5%b8%82%e9%99%b8%e4%b8%8a%e7%ab%b6%e6%8a%80%e8%a8%98%e9%8c%b2%e4%bc%9a/
END:VEVENT
BEGIN:VEVENT
DTSTART;VALUE=DATE:20250530
DTEND;VALUE=DATE:20250603
DTSTAMP:20260421T160626
CREATED:20250206T013536Z
LAST-MODIFIED:20250206T013536Z
UID:2980-1748563200-1748908799@keisei-athletics.com
SUMMARY:熊本県高等学校総合体育大会
DESCRIPTION:（えがお健康スタジアム）
URL:https://keisei-athletics.com/event/%e7%86%8a%e6%9c%ac%e7%9c%8c%e9%ab%98%e7%ad%89%e5%ad%a6%e6%a0%a1%e7%b7%8f%e5%90%88%e4%bd%93%e8%82%b2%e5%a4%a7%e4%bc%9a/
END:VEVENT
END:VCALENDAR