BEGIN:VCALENDAR
VERSION:2.0
PRODID:-//慶誠高等学校 陸上競技部【公式】 - ECPv6.13.2.1//NONSGML v1.0//EN
CALSCALE:GREGORIAN
METHOD:PUBLISH
X-WR-CALNAME:慶誠高等学校 陸上競技部【公式】
X-ORIGINAL-URL:https://keisei-athletics.com
X-WR-CALDESC:慶誠高等学校 陸上競技部【公式】 のイベント
REFRESH-INTERVAL;VALUE=DURATION:PT1H
X-Robots-Tag:noindex
X-PUBLISHED-TTL:PT1H
BEGIN:VTIMEZONE
TZID:Asia/Tokyo
BEGIN:STANDARD
TZOFFSETFROM:+0900
TZOFFSETTO:+0900
TZNAME:JST
DTSTART:20250101T000000
END:STANDARD
END:VTIMEZONE
BEGIN:VEVENT
DTSTART;VALUE=DATE:20251227
DTEND;VALUE=DATE:20260105
DTSTAMP:20260421T014623
CREATED:20251117T052205Z
LAST-MODIFIED:20251117T052205Z
UID:6348-1766793600-1767571199@keisei-athletics.com
SUMMARY:年末年始寮閉鎖期間
DESCRIPTION:１２月２７日(土)朝食まで出る\n１月４日(日)は夕食から
URL:https://keisei-athletics.com/event/%e5%b9%b4%e6%9c%ab%e5%b9%b4%e5%a7%8b%e5%af%ae%e9%96%89%e9%8e%96%e6%9c%9f%e9%96%93/
END:VEVENT
BEGIN:VEVENT
DTSTART;VALUE=DATE:20251231
DTEND;VALUE=DATE:20260104
DTSTAMP:20260421T014623
CREATED:20251129T024226Z
LAST-MODIFIED:20251129T024514Z
UID:6354-1767139200-1767484799@keisei-athletics.com
SUMMARY:年末年始休み（長距離）
DESCRIPTION:１２月３０日(火)午後練習後～１月３日(土)午前中まで \n１２月２７日(土)益城大会\n１２月２８日(日)午前練習\n１２月２９日(月)二部練習\n１２月３０日(火)16：00～練習（一部練習）\n１２月３１日(水)休み\n１月１日(木)休み\n１月２日(金)休み\n１月３日(土)16：00～練習\n１月４日(日)二部練習 \n※寮生は寮閉鎖期間と重なるため、寮には入れません。\nその為、帰省して来れない場合は、自分で練習してください。
URL:https://keisei-athletics.com/event/%e5%b9%b4%e6%9c%ab%e5%b9%b4%e5%a7%8b%e4%bc%91%e3%81%bf%ef%bc%88%e9%95%b7%e8%b7%9d%e9%9b%a2%ef%bc%89/
END:VEVENT
BEGIN:VEVENT
DTSTART;VALUE=DATE:20260118
DTEND;VALUE=DATE:20260119
DTSTAMP:20260421T014623
CREATED:20250206T041012Z
LAST-MODIFIED:20250206T041012Z
UID:3062-1768694400-1768780799@keisei-athletics.com
SUMMARY:第31回全国都道府県駅伝
DESCRIPTION:広島
URL:https://keisei-athletics.com/event/%e7%ac%ac31%e5%9b%9e%e5%85%a8%e5%9b%bd%e9%83%bd%e9%81%93%e5%ba%9c%e7%9c%8c%e9%a7%85%e4%bc%9d/
END:VEVENT
BEGIN:VEVENT
DTSTART;VALUE=DATE:20260131
DTEND;VALUE=DATE:20260201
DTSTAMP:20260421T014623
CREATED:20250206T034154Z
LAST-MODIFIED:20250206T034154Z
UID:3057-1769817600-1769903999@keisei-athletics.com
SUMMARY:第4回熊本県高校新人駅伝競走大会
DESCRIPTION:えがお
URL:https://keisei-athletics.com/event/%e7%ac%ac4%e5%9b%9e%e7%86%8a%e6%9c%ac%e7%9c%8c%e9%ab%98%e6%a0%a1%e6%96%b0%e4%ba%ba%e9%a7%85%e4%bc%9d%e7%ab%b6%e8%b5%b0%e5%a4%a7%e4%bc%9a/
END:VEVENT
END:VCALENDAR