BEGIN:VCALENDAR
VERSION:2.0
PRODID:-//慶誠高等学校 陸上競技部【公式】 - ECPv6.13.2.1//NONSGML v1.0//EN
CALSCALE:GREGORIAN
METHOD:PUBLISH
X-ORIGINAL-URL:https://keisei-athletics.com
X-WR-CALDESC:慶誠高等学校 陸上競技部【公式】 のイベント
REFRESH-INTERVAL;VALUE=DURATION:PT1H
X-Robots-Tag:noindex
X-PUBLISHED-TTL:PT1H
BEGIN:VTIMEZONE
TZID:Asia/Tokyo
BEGIN:STANDARD
TZOFFSETFROM:+0900
TZOFFSETTO:+0900
TZNAME:JST
DTSTART:20230101T000000
END:STANDARD
END:VTIMEZONE
BEGIN:VEVENT
DTSTART;VALUE=DATE:20231006
DTEND;VALUE=DATE:20231009
DTSTAMP:20260423T022812
CREATED:20230911T031811Z
LAST-MODIFIED:20230911T031811Z
UID:99-1696550400-1696809599@keisei-athletics.com
SUMMARY:全九州新人陸上
DESCRIPTION:
URL:https://keisei-athletics.com/event/%e5%85%a8%e4%b9%9d%e5%b7%9e%e6%96%b0%e4%ba%ba%e9%99%b8%e4%b8%8a/
END:VEVENT
END:VCALENDAR