BEGIN:VCALENDAR
VERSION:2.0
PRODID:-//慶誠高等学校 陸上競技部【公式】 - ECPv6.13.2.1//NONSGML v1.0//EN
CALSCALE:GREGORIAN
METHOD:PUBLISH
X-ORIGINAL-URL:https://keisei-athletics.com
X-WR-CALDESC:慶誠高等学校 陸上競技部【公式】 のイベント
REFRESH-INTERVAL;VALUE=DURATION:PT1H
X-Robots-Tag:noindex
X-PUBLISHED-TTL:PT1H
BEGIN:VTIMEZONE
TZID:Asia/Tokyo
BEGIN:STANDARD
TZOFFSETFROM:+0900
TZOFFSETTO:+0900
TZNAME:JST
DTSTART:20230101T000000
END:STANDARD
END:VTIMEZONE
BEGIN:VEVENT
DTSTART;VALUE=DATE:20231014
DTEND;VALUE=DATE:20231015
DTSTAMP:20260423T023019
CREATED:20230911T034235Z
LAST-MODIFIED:20230911T034235Z
UID:103-1697241600-1697327999@keisei-athletics.com
SUMMARY:諫早ナイター
DESCRIPTION:
URL:https://keisei-athletics.com/event/%e8%ab%ab%e6%97%a9%e3%83%8a%e3%82%a4%e3%82%bf%e3%83%bc-2/
END:VEVENT
END:VCALENDAR