BEGIN:VCALENDAR
VERSION:2.0
PRODID:-//慶誠高等学校 陸上競技部【公式】 - ECPv6.13.2.1//NONSGML v1.0//EN
CALSCALE:GREGORIAN
METHOD:PUBLISH
X-WR-CALNAME:慶誠高等学校 陸上競技部【公式】
X-ORIGINAL-URL:https://keisei-athletics.com
X-WR-CALDESC:慶誠高等学校 陸上競技部【公式】 のイベント
REFRESH-INTERVAL;VALUE=DURATION:PT1H
X-Robots-Tag:noindex
X-PUBLISHED-TTL:PT1H
BEGIN:VTIMEZONE
TZID:Asia/Tokyo
BEGIN:STANDARD
TZOFFSETFROM:+0900
TZOFFSETTO:+0900
TZNAME:JST
DTSTART:20230101T000000
END:STANDARD
END:VTIMEZONE
BEGIN:VEVENT
DTSTART;VALUE=DATE:20231021
DTEND;VALUE=DATE:20231022
DTSTAMP:20260423T022839
CREATED:20231003T011019Z
LAST-MODIFIED:20231003T011200Z
UID:164-1697846400-1697932799@keisei-athletics.com
SUMMARY:駅伝メンバー最終選考会（校内）
DESCRIPTION:
URL:https://keisei-athletics.com/event/%e9%a7%85%e4%bc%9d%e3%83%a1%e3%83%b3%e3%83%90%e3%83%bc%e6%9c%80%e7%b5%82%e9%81%b8%e8%80%83%e4%bc%9a%ef%bc%88%e6%a0%a1%e5%86%85%ef%bc%89/
END:VEVENT
END:VCALENDAR