BEGIN:VCALENDAR
VERSION:2.0
PRODID:-//慶誠高等学校 陸上競技部【公式】 - ECPv6.13.2.1//NONSGML v1.0//EN
CALSCALE:GREGORIAN
METHOD:PUBLISH
X-ORIGINAL-URL:https://keisei-athletics.com
X-WR-CALDESC:慶誠高等学校 陸上競技部【公式】 のイベント
REFRESH-INTERVAL;VALUE=DURATION:PT1H
X-Robots-Tag:noindex
X-PUBLISHED-TTL:PT1H
BEGIN:VTIMEZONE
TZID:Asia/Tokyo
BEGIN:STANDARD
TZOFFSETFROM:+0900
TZOFFSETTO:+0900
TZNAME:JST
DTSTART:20230101T000000
END:STANDARD
END:VTIMEZONE
BEGIN:VEVENT
DTSTART;VALUE=DATE:20231128
DTEND;VALUE=DATE:20231202
DTSTAMP:20260422T230537
CREATED:20230911T035610Z
LAST-MODIFIED:20230912T075659Z
UID:121-1701129600-1701475199@keisei-athletics.com
SUMMARY:期末考査
DESCRIPTION:
URL:https://keisei-athletics.com/event/%e6%9c%9f%e6%9c%ab%e8%80%83%e6%9f%bb/
CATEGORIES:重要
END:VEVENT
BEGIN:VEVENT
DTSTART;VALUE=DATE:20231201
DTEND;VALUE=DATE:20231202
DTSTAMP:20260422T230537
CREATED:20231003T013611Z
LAST-MODIFIED:20231129T230956Z
UID:192-1701388800-1701475199@keisei-athletics.com
SUMMARY:進路ガイダンス
DESCRIPTION:
URL:https://keisei-athletics.com/event/%e9%80%b2%e8%b7%af%e3%82%ac%e3%82%a4%e3%83%80%e3%83%b3%e3%82%b9/
END:VEVENT
END:VCALENDAR