BEGIN:VCALENDAR
VERSION:2.0
PRODID:-//慶誠高等学校 陸上競技部【公式】 - ECPv6.13.2.1//NONSGML v1.0//EN
CALSCALE:GREGORIAN
METHOD:PUBLISH
X-WR-CALNAME:慶誠高等学校 陸上競技部【公式】
X-ORIGINAL-URL:https://keisei-athletics.com
X-WR-CALDESC:慶誠高等学校 陸上競技部【公式】 のイベント
REFRESH-INTERVAL;VALUE=DURATION:PT1H
X-Robots-Tag:noindex
X-PUBLISHED-TTL:PT1H
BEGIN:VTIMEZONE
TZID:Asia/Tokyo
BEGIN:STANDARD
TZOFFSETFROM:+0900
TZOFFSETTO:+0900
TZNAME:JST
DTSTART:20230101T000000
END:STANDARD
END:VTIMEZONE
BEGIN:VEVENT
DTSTART;VALUE=DATE:20231227
DTEND;VALUE=DATE:20231231
DTSTAMP:20260422T230313
CREATED:20231124T030947Z
LAST-MODIFIED:20231124T030947Z
UID:267-1703635200-1703980799@keisei-athletics.com
SUMMARY:全国都道府県合宿（中村のみ）
DESCRIPTION:
URL:https://keisei-athletics.com/event/%e5%85%a8%e5%9b%bd%e9%83%bd%e9%81%93%e5%ba%9c%e7%9c%8c%e5%90%88%e5%ae%bf%ef%bc%88%e4%b8%ad%e6%9d%91%e3%81%ae%e3%81%bf%ef%bc%89/
END:VEVENT
END:VCALENDAR