BEGIN:VCALENDAR
VERSION:2.0
PRODID:-//慶誠高等学校 陸上競技部【公式】 - ECPv6.13.2.1//NONSGML v1.0//EN
CALSCALE:GREGORIAN
METHOD:PUBLISH
X-WR-CALNAME:慶誠高等学校 陸上競技部【公式】
X-ORIGINAL-URL:https://keisei-athletics.com
X-WR-CALDESC:慶誠高等学校 陸上競技部【公式】 のイベント
REFRESH-INTERVAL;VALUE=DURATION:PT1H
X-Robots-Tag:noindex
X-PUBLISHED-TTL:PT1H
BEGIN:VTIMEZONE
TZID:Asia/Tokyo
BEGIN:STANDARD
TZOFFSETFROM:+0900
TZOFFSETTO:+0900
TZNAME:JST
DTSTART:20240101T000000
END:STANDARD
END:VTIMEZONE
BEGIN:VEVENT
DTSTART;VALUE=DATE:20240124
DTEND;VALUE=DATE:20240126
DTSTAMP:20260422T210950
CREATED:20240116T080026Z
LAST-MODIFIED:20240116T080334Z
UID:333-1706054400-1706227199@keisei-athletics.com
SUMMARY:部活１３：００～
DESCRIPTION:
URL:https://keisei-athletics.com/event/%e9%83%a8%e6%b4%bb%ef%bc%91%ef%bc%93%ef%bc%9a%ef%bc%90%ef%bc%90%ef%bd%9e/
END:VEVENT
END:VCALENDAR