BEGIN:VCALENDAR
VERSION:2.0
PRODID:-//慶誠高等学校 陸上競技部【公式】 - ECPv6.13.2.1//NONSGML v1.0//EN
CALSCALE:GREGORIAN
METHOD:PUBLISH
X-WR-CALNAME:慶誠高等学校 陸上競技部【公式】
X-ORIGINAL-URL:https://keisei-athletics.com
X-WR-CALDESC:慶誠高等学校 陸上競技部【公式】 のイベント
REFRESH-INTERVAL;VALUE=DURATION:PT1H
X-Robots-Tag:noindex
X-PUBLISHED-TTL:PT1H
BEGIN:VTIMEZONE
TZID:Asia/Tokyo
BEGIN:STANDARD
TZOFFSETFROM:+0900
TZOFFSETTO:+0900
TZNAME:JST
DTSTART:20240101T000000
END:STANDARD
END:VTIMEZONE
BEGIN:VEVENT
DTSTART;VALUE=DATE:20240216
DTEND;VALUE=DATE:20240217
DTSTAMP:20260422T193316
CREATED:20240116T080824Z
LAST-MODIFIED:20240116T080824Z
UID:339-1708041600-1708127999@keisei-athletics.com
SUMMARY:1.2.5授業　合否判定会議
DESCRIPTION:
URL:https://keisei-athletics.com/event/1-2-5%e6%8e%88%e6%a5%ad%e3%80%80%e5%90%88%e5%90%a6%e5%88%a4%e5%ae%9a%e4%bc%9a%e8%ad%b0/
END:VEVENT
END:VCALENDAR