BEGIN:VCALENDAR
VERSION:2.0
PRODID:-//慶誠高等学校 陸上競技部【公式】 - ECPv6.13.2.1//NONSGML v1.0//EN
CALSCALE:GREGORIAN
METHOD:PUBLISH
X-WR-CALNAME:慶誠高等学校 陸上競技部【公式】
X-ORIGINAL-URL:https://keisei-athletics.com
X-WR-CALDESC:慶誠高等学校 陸上競技部【公式】 のイベント
REFRESH-INTERVAL;VALUE=DURATION:PT1H
X-Robots-Tag:noindex
X-PUBLISHED-TTL:PT1H
BEGIN:VTIMEZONE
TZID:Asia/Tokyo
BEGIN:STANDARD
TZOFFSETFROM:+0900
TZOFFSETTO:+0900
TZNAME:JST
DTSTART:20240101T000000
END:STANDARD
END:VTIMEZONE
BEGIN:VEVENT
DTSTART;VALUE=DATE:20240222
DTEND;VALUE=DATE:20240229
DTSTAMP:20260422T193315
CREATED:20231003T013947Z
LAST-MODIFIED:20231003T013947Z
UID:204-1708560000-1709164799@keisei-athletics.com
SUMMARY:期末考査
DESCRIPTION:
URL:https://keisei-athletics.com/event/%e6%9c%9f%e6%9c%ab%e8%80%83%e6%9f%bb-2/
END:VEVENT
BEGIN:VEVENT
DTSTART;VALUE=DATE:20240223
DTEND;VALUE=DATE:20240224
DTSTAMP:20260422T193315
CREATED:20231003T014019Z
LAST-MODIFIED:20231003T014019Z
UID:206-1708646400-1708732799@keisei-athletics.com
SUMMARY:天皇誕生日
DESCRIPTION:
URL:https://keisei-athletics.com/event/%e5%a4%a9%e7%9a%87%e8%aa%95%e7%94%9f%e6%97%a5/
END:VEVENT
END:VCALENDAR