BEGIN:VCALENDAR
VERSION:2.0
PRODID:-//慶誠高等学校 陸上競技部【公式】 - ECPv6.13.2.1//NONSGML v1.0//EN
CALSCALE:GREGORIAN
METHOD:PUBLISH
X-WR-CALNAME:慶誠高等学校 陸上競技部【公式】
X-ORIGINAL-URL:https://keisei-athletics.com
X-WR-CALDESC:慶誠高等学校 陸上競技部【公式】 のイベント
REFRESH-INTERVAL;VALUE=DURATION:PT1H
X-Robots-Tag:noindex
X-PUBLISHED-TTL:PT1H
BEGIN:VTIMEZONE
TZID:Asia/Tokyo
BEGIN:STANDARD
TZOFFSETFROM:+0900
TZOFFSETTO:+0900
TZNAME:JST
DTSTART:20240101T000000
END:STANDARD
END:VTIMEZONE
BEGIN:VEVENT
DTSTART;VALUE=DATE:20240426
DTEND;VALUE=DATE:20240427
DTSTAMP:20260422T161627
CREATED:20240313T045227Z
LAST-MODIFIED:20240313T045227Z
UID:579-1714089600-1714175999@keisei-athletics.com
SUMMARY:歓迎遠足
DESCRIPTION:
URL:https://keisei-athletics.com/event/%e6%ad%93%e8%bf%8e%e9%81%a0%e8%b6%b3/
END:VEVENT
END:VCALENDAR