BEGIN:VCALENDAR
VERSION:2.0
PRODID:-//慶誠高等学校 陸上競技部【公式】 - ECPv6.13.2.1//NONSGML v1.0//EN
CALSCALE:GREGORIAN
METHOD:PUBLISH
X-WR-CALNAME:慶誠高等学校 陸上競技部【公式】
X-ORIGINAL-URL:https://keisei-athletics.com
X-WR-CALDESC:慶誠高等学校 陸上競技部【公式】 のイベント
REFRESH-INTERVAL;VALUE=DURATION:PT1H
X-Robots-Tag:noindex
X-PUBLISHED-TTL:PT1H
BEGIN:VTIMEZONE
TZID:Asia/Tokyo
BEGIN:STANDARD
TZOFFSETFROM:+0900
TZOFFSETTO:+0900
TZNAME:JST
DTSTART:20240101T000000
END:STANDARD
END:VTIMEZONE
BEGIN:VEVENT
DTSTART;VALUE=DATE:20240511
DTEND;VALUE=DATE:20240512
DTSTAMP:20260422T142728
CREATED:20240313T045743Z
LAST-MODIFIED:20240313T045743Z
UID:591-1715385600-1715471999@keisei-athletics.com
SUMMARY:体育祭
DESCRIPTION:
URL:https://keisei-athletics.com/event/%e4%bd%93%e8%82%b2%e7%a5%ad/
END:VEVENT
END:VCALENDAR