BEGIN:VCALENDAR
VERSION:2.0
PRODID:-//慶誠高等学校 陸上競技部【公式】 - ECPv6.13.2.1//NONSGML v1.0//EN
CALSCALE:GREGORIAN
METHOD:PUBLISH
X-WR-CALNAME:慶誠高等学校 陸上競技部【公式】
X-ORIGINAL-URL:https://keisei-athletics.com
X-WR-CALDESC:慶誠高等学校 陸上競技部【公式】 のイベント
REFRESH-INTERVAL;VALUE=DURATION:PT1H
X-Robots-Tag:noindex
X-PUBLISHED-TTL:PT1H
BEGIN:VTIMEZONE
TZID:Asia/Tokyo
BEGIN:STANDARD
TZOFFSETFROM:+0900
TZOFFSETTO:+0900
TZNAME:JST
DTSTART:20240101T000000
END:STANDARD
END:VTIMEZONE
BEGIN:VEVENT
DTSTART;VALUE=DATE:20240531
DTEND;VALUE=DATE:20240604
DTSTAMP:20260422T122910
CREATED:20240201T041956Z
LAST-MODIFIED:20240201T041956Z
UID:366-1717113600-1717459199@keisei-athletics.com
SUMMARY:令和6年度熊本県高校総体
DESCRIPTION:えがお健康スタジアム
URL:https://keisei-athletics.com/event/%e4%bb%a4%e5%92%8c6%e5%b9%b4%e5%ba%a6%e7%86%8a%e6%9c%ac%e7%9c%8c%e9%ab%98%e6%a0%a1%e7%b7%8f%e4%bd%93/
END:VEVENT
END:VCALENDAR