BEGIN:VCALENDAR
VERSION:2.0
PRODID:-//慶誠高等学校 陸上競技部【公式】 - ECPv6.13.2.1//NONSGML v1.0//EN
CALSCALE:GREGORIAN
METHOD:PUBLISH
X-WR-CALNAME:慶誠高等学校 陸上競技部【公式】
X-ORIGINAL-URL:https://keisei-athletics.com
X-WR-CALDESC:慶誠高等学校 陸上競技部【公式】 のイベント
REFRESH-INTERVAL;VALUE=DURATION:PT1H
X-Robots-Tag:noindex
X-PUBLISHED-TTL:PT1H
BEGIN:VTIMEZONE
TZID:Asia/Tokyo
BEGIN:STANDARD
TZOFFSETFROM:+0900
TZOFFSETTO:+0900
TZNAME:JST
DTSTART:20240101T000000
END:STANDARD
END:VTIMEZONE
BEGIN:VEVENT
DTSTART;VALUE=DATE:20240713
DTEND;VALUE=DATE:20240715
DTSTAMP:20260422T105807
CREATED:20240201T042136Z
LAST-MODIFIED:20240201T042136Z
UID:370-1720828800-1721001599@keisei-athletics.com
SUMMARY:国民スポーツ大会最終予選
DESCRIPTION:えがお健康スタジアム
URL:https://keisei-athletics.com/event/%e5%9b%bd%e6%b0%91%e3%82%b9%e3%83%9d%e3%83%bc%e3%83%84%e5%a4%a7%e4%bc%9a%e6%9c%80%e7%b5%82%e4%ba%88%e9%81%b8/
END:VEVENT
END:VCALENDAR