BEGIN:VCALENDAR
VERSION:2.0
PRODID:-//慶誠高等学校 陸上競技部【公式】 - ECPv6.13.2.1//NONSGML v1.0//EN
CALSCALE:GREGORIAN
METHOD:PUBLISH
X-WR-CALNAME:慶誠高等学校 陸上競技部【公式】
X-ORIGINAL-URL:https://keisei-athletics.com
X-WR-CALDESC:慶誠高等学校 陸上競技部【公式】 のイベント
REFRESH-INTERVAL;VALUE=DURATION:PT1H
X-Robots-Tag:noindex
X-PUBLISHED-TTL:PT1H
BEGIN:VTIMEZONE
TZID:Asia/Tokyo
BEGIN:STANDARD
TZOFFSETFROM:+0900
TZOFFSETTO:+0900
TZNAME:JST
DTSTART:20240101T000000
END:STANDARD
END:VTIMEZONE
BEGIN:VEVENT
DTSTART;VALUE=DATE:20240813
DTEND;VALUE=DATE:20240819
DTSTAMP:20260422T091116
CREATED:20240619T053900Z
LAST-MODIFIED:20240627T225524Z
UID:1002-1723507200-1724025599@keisei-athletics.com
SUMMARY:阿蘇合宿（選抜）
DESCRIPTION:
URL:https://keisei-athletics.com/event/%e5%a4%8f%e5%90%88%e5%ae%bf/
END:VEVENT
BEGIN:VEVENT
DTSTART;VALUE=DATE:20240815
DTEND;VALUE=DATE:20240819
DTSTAMP:20260422T091116
CREATED:20240627T225558Z
LAST-MODIFIED:20240627T225558Z
UID:1027-1723680000-1724025599@keisei-athletics.com
SUMMARY:阿蘇合宿（全体）
DESCRIPTION:
URL:https://keisei-athletics.com/event/%e9%98%bf%e8%98%87%e5%90%88%e5%ae%bf%ef%bc%88%e5%85%a8%e4%bd%93%ef%bc%89-2/
END:VEVENT
END:VCALENDAR