BEGIN:VCALENDAR
VERSION:2.0
PRODID:-//慶誠高等学校 陸上競技部【公式】 - ECPv6.13.2.1//NONSGML v1.0//EN
CALSCALE:GREGORIAN
METHOD:PUBLISH
X-ORIGINAL-URL:https://keisei-athletics.com
X-WR-CALDESC:慶誠高等学校 陸上競技部【公式】 のイベント
REFRESH-INTERVAL;VALUE=DURATION:PT1H
X-Robots-Tag:noindex
X-PUBLISHED-TTL:PT1H
BEGIN:VTIMEZONE
TZID:Asia/Tokyo
BEGIN:STANDARD
TZOFFSETFROM:+0900
TZOFFSETTO:+0900
TZNAME:JST
DTSTART:20240101T000000
END:STANDARD
END:VTIMEZONE
BEGIN:VEVENT
DTSTART;VALUE=DATE:20240822
DTEND;VALUE=DATE:20240826
DTSTAMP:20260422T091315
CREATED:20240626T104007Z
LAST-MODIFIED:20240626T104007Z
UID:1023-1724284800-1724630399@keisei-athletics.com
SUMMARY:阿蘇合宿（全体）
DESCRIPTION:
URL:https://keisei-athletics.com/event/%e9%98%bf%e8%98%87%e5%90%88%e5%ae%bf%ef%bc%88%e5%85%a8%e4%bd%93%ef%bc%89/
END:VEVENT
BEGIN:VEVENT
DTSTART;VALUE=DATE:20240823
DTEND;VALUE=DATE:20240826
DTSTAMP:20260422T091315
CREATED:20240208T054455Z
LAST-MODIFIED:20240208T054455Z
UID:415-1724371200-1724630399@keisei-athletics.com
SUMMARY:第79回九州陸上競技選手権大会
DESCRIPTION:沖縄：タピック県総ひやごんスタジアム
URL:https://keisei-athletics.com/event/%e7%ac%ac79%e5%9b%9e%e4%b9%9d%e5%b7%9e%e9%99%b8%e4%b8%8a%e7%ab%b6%e6%8a%80%e9%81%b8%e6%89%8b%e6%a8%a9%e5%a4%a7%e4%bc%9a/
END:VEVENT
END:VCALENDAR