BEGIN:VCALENDAR
VERSION:2.0
PRODID:-//慶誠高等学校 陸上競技部【公式】 - ECPv6.13.2.1//NONSGML v1.0//EN
CALSCALE:GREGORIAN
METHOD:PUBLISH
X-WR-CALNAME:慶誠高等学校 陸上競技部【公式】
X-ORIGINAL-URL:https://keisei-athletics.com
X-WR-CALDESC:慶誠高等学校 陸上競技部【公式】 のイベント
REFRESH-INTERVAL;VALUE=DURATION:PT1H
X-Robots-Tag:noindex
X-PUBLISHED-TTL:PT1H
BEGIN:VTIMEZONE
TZID:Asia/Tokyo
BEGIN:STANDARD
TZOFFSETFROM:+0900
TZOFFSETTO:+0900
TZNAME:JST
DTSTART:20240101T000000
END:STANDARD
END:VTIMEZONE
BEGIN:VEVENT
DTSTART;VALUE=DATE:20240921
DTEND;VALUE=DATE:20240922
DTSTAMP:20260422T072924
CREATED:20240411T012933Z
LAST-MODIFIED:20240411T013007Z
UID:698-1726876800-1726963199@keisei-athletics.com
SUMMARY:第３回諫早ナイター記録会
DESCRIPTION:
URL:https://keisei-athletics.com/event/%e7%ac%ac%ef%bc%92%e5%9b%9e%e8%ab%ab%e6%97%a9%e3%83%8a%e3%82%a4%e3%82%bf%e3%83%bc%e8%a8%98%e9%8c%b2%e4%bc%9a/
END:VEVENT
END:VCALENDAR