BEGIN:VCALENDAR
VERSION:2.0
PRODID:-//慶誠高等学校 陸上競技部【公式】 - ECPv6.13.2.1//NONSGML v1.0//EN
CALSCALE:GREGORIAN
METHOD:PUBLISH
X-ORIGINAL-URL:https://keisei-athletics.com
X-WR-CALDESC:慶誠高等学校 陸上競技部【公式】 のイベント
REFRESH-INTERVAL;VALUE=DURATION:PT1H
X-Robots-Tag:noindex
X-PUBLISHED-TTL:PT1H
BEGIN:VTIMEZONE
TZID:Asia/Tokyo
BEGIN:STANDARD
TZOFFSETFROM:+0900
TZOFFSETTO:+0900
TZNAME:JST
DTSTART:20240101T000000
END:STANDARD
END:VTIMEZONE
BEGIN:VEVENT
DTSTART;VALUE=DATE:20241102
DTEND;VALUE=DATE:20241103
DTSTAMP:20260422T053804
CREATED:20240201T044748Z
LAST-MODIFIED:20240201T044748Z
UID:382-1730505600-1730591999@keisei-athletics.com
SUMMARY:秋季記録会
DESCRIPTION:えがお健康スタジアム
URL:https://keisei-athletics.com/event/%e7%a7%8b%e5%ad%a3%e8%a8%98%e9%8c%b2%e4%bc%9a-2/
END:VEVENT
END:VCALENDAR