BEGIN:VCALENDAR
VERSION:2.0
PRODID:-//慶誠高等学校 陸上競技部【公式】 - ECPv6.13.2.1//NONSGML v1.0//EN
CALSCALE:GREGORIAN
METHOD:PUBLISH
X-ORIGINAL-URL:https://keisei-athletics.com
X-WR-CALDESC:慶誠高等学校 陸上競技部【公式】 のイベント
REFRESH-INTERVAL;VALUE=DURATION:PT1H
X-Robots-Tag:noindex
X-PUBLISHED-TTL:PT1H
BEGIN:VTIMEZONE
TZID:Asia/Tokyo
BEGIN:STANDARD
TZOFFSETFROM:+0900
TZOFFSETTO:+0900
TZNAME:JST
DTSTART:20240101T000000
END:STANDARD
END:VTIMEZONE
BEGIN:VEVENT
DTSTART;VALUE=DATE:20241115
DTEND;VALUE=DATE:20241117
DTSTAMP:20260422T035328
CREATED:20240208T054802Z
LAST-MODIFIED:20240208T054802Z
UID:419-1731628800-1731801599@keisei-athletics.com
SUMMARY:九州駅伝（宮崎）
DESCRIPTION:日本陸連公認西都マラソンコース\n11/15　開会式\n11/16　大会
URL:https://keisei-athletics.com/event/%e4%b9%9d%e5%b7%9e%e9%a7%85%e4%bc%9d%ef%bc%88%e5%ae%ae%e5%b4%8e%ef%bc%89/
END:VEVENT
BEGIN:VEVENT
DTSTART;VALUE=DATE:20241116
DTEND;VALUE=DATE:20241117
DTSTAMP:20260422T035328
CREATED:20240313T042703Z
LAST-MODIFIED:20240313T042703Z
UID:551-1731715200-1731801599@keisei-athletics.com
SUMMARY:第４回佐賀長距離記録会
DESCRIPTION:
URL:https://keisei-athletics.com/event/%e7%ac%ac%ef%bc%94%e5%9b%9e%e4%bd%90%e8%b3%80%e9%95%b7%e8%b7%9d%e9%9b%a2%e8%a8%98%e9%8c%b2%e4%bc%9a/
END:VEVENT
END:VCALENDAR