BEGIN:VCALENDAR
VERSION:2.0
PRODID:-//慶誠高等学校 陸上競技部【公式】 - ECPv6.13.2.1//NONSGML v1.0//EN
CALSCALE:GREGORIAN
METHOD:PUBLISH
X-WR-CALNAME:慶誠高等学校 陸上競技部【公式】
X-ORIGINAL-URL:https://keisei-athletics.com
X-WR-CALDESC:慶誠高等学校 陸上競技部【公式】 のイベント
REFRESH-INTERVAL;VALUE=DURATION:PT1H
X-Robots-Tag:noindex
X-PUBLISHED-TTL:PT1H
BEGIN:VTIMEZONE
TZID:Asia/Tokyo
BEGIN:STANDARD
TZOFFSETFROM:+0900
TZOFFSETTO:+0900
TZNAME:JST
DTSTART:20240101T000000
END:STANDARD
END:VTIMEZONE
BEGIN:VEVENT
DTSTART;VALUE=DATE:20241123
DTEND;VALUE=DATE:20241124
DTSTAMP:20260422T035200
CREATED:20240209T013830Z
LAST-MODIFIED:20240209T013830Z
UID:436-1732320000-1732406399@keisei-athletics.com
SUMMARY:第77回熊本市中長距離選手権大会
DESCRIPTION:えがお健康スタジアム
URL:https://keisei-athletics.com/event/%e7%ac%ac77%e5%9b%9e%e7%86%8a%e6%9c%ac%e5%b8%82%e4%b8%ad%e9%95%b7%e8%b7%9d%e9%9b%a2%e9%81%b8%e6%89%8b%e6%a8%a9%e5%a4%a7%e4%bc%9a/
END:VEVENT
END:VCALENDAR