BEGIN:VCALENDAR
VERSION:2.0
PRODID:-//慶誠高等学校 陸上競技部【公式】 - ECPv6.13.2.1//NONSGML v1.0//EN
CALSCALE:GREGORIAN
METHOD:PUBLISH
X-WR-CALNAME:慶誠高等学校 陸上競技部【公式】
X-ORIGINAL-URL:https://keisei-athletics.com
X-WR-CALDESC:慶誠高等学校 陸上競技部【公式】 のイベント
REFRESH-INTERVAL;VALUE=DURATION:PT1H
X-Robots-Tag:noindex
X-PUBLISHED-TTL:PT1H
BEGIN:VTIMEZONE
TZID:Asia/Tokyo
BEGIN:STANDARD
TZOFFSETFROM:+0900
TZOFFSETTO:+0900
TZNAME:JST
DTSTART:20250101T000000
END:STANDARD
END:VTIMEZONE
BEGIN:VEVENT
DTSTART;VALUE=DATE:20250712
DTEND;VALUE=DATE:20250714
DTSTAMP:20260421T141409
CREATED:20250206T013715Z
LAST-MODIFIED:20250206T013715Z
UID:2986-1752278400-1752451199@keisei-athletics.com
SUMMARY:国スポ最終選考会
DESCRIPTION:（えがお健康スタジアム）
URL:https://keisei-athletics.com/event/%e5%9b%bd%e3%82%b9%e3%83%9d%e6%9c%80%e7%b5%82%e9%81%b8%e8%80%83%e4%bc%9a/
END:VEVENT
END:VCALENDAR