BEGIN:VCALENDAR
VERSION:2.0
PRODID:-//慶誠高等学校 陸上競技部【公式】 - ECPv6.13.2.1//NONSGML v1.0//EN
CALSCALE:GREGORIAN
METHOD:PUBLISH
X-ORIGINAL-URL:https://keisei-athletics.com
X-WR-CALDESC:慶誠高等学校 陸上競技部【公式】 のイベント
REFRESH-INTERVAL;VALUE=DURATION:PT1H
X-Robots-Tag:noindex
X-PUBLISHED-TTL:PT1H
BEGIN:VTIMEZONE
TZID:Asia/Tokyo
BEGIN:STANDARD
TZOFFSETFROM:+0900
TZOFFSETTO:+0900
TZNAME:JST
DTSTART:20250101T000000
END:STANDARD
END:VTIMEZONE
BEGIN:VEVENT
DTSTART;VALUE=DATE:20250810
DTEND;VALUE=DATE:20250814
DTSTAMP:20260421T122729
CREATED:20250701T085734Z
LAST-MODIFIED:20250701T085734Z
UID:4300-1754784000-1755129599@keisei-athletics.com
SUMMARY:陸上部お盆休み
DESCRIPTION:
URL:https://keisei-athletics.com/event/%e9%99%b8%e4%b8%8a%e9%83%a8%e3%81%8a%e7%9b%86%e4%bc%91%e3%81%bf/
END:VEVENT
END:VCALENDAR