BEGIN:VCALENDAR
VERSION:2.0
PRODID:-//慶誠高等学校 陸上競技部【公式】 - ECPv6.13.2.1//NONSGML v1.0//EN
CALSCALE:GREGORIAN
METHOD:PUBLISH
X-WR-CALNAME:慶誠高等学校 陸上競技部【公式】
X-ORIGINAL-URL:https://keisei-athletics.com
X-WR-CALDESC:慶誠高等学校 陸上競技部【公式】 のイベント
REFRESH-INTERVAL;VALUE=DURATION:PT1H
X-Robots-Tag:noindex
X-PUBLISHED-TTL:PT1H
BEGIN:VTIMEZONE
TZID:Asia/Tokyo
BEGIN:STANDARD
TZOFFSETFROM:+0900
TZOFFSETTO:+0900
TZNAME:JST
DTSTART:20250101T000000
END:STANDARD
END:VTIMEZONE
BEGIN:VEVENT
DTSTART;VALUE=DATE:20250822
DTEND;VALUE=DATE:20250825
DTSTAMP:20260421T122529
CREATED:20250206T024541Z
LAST-MODIFIED:20250206T024541Z
UID:3039-1755820800-1756079999@keisei-athletics.com
SUMMARY:第80回九州陸上競技選手権大会
DESCRIPTION:大分・大分スポーツ公園クラサスドーム大分
URL:https://keisei-athletics.com/event/%e7%ac%ac80%e5%9b%9e%e4%b9%9d%e5%b7%9e%e9%99%b8%e4%b8%8a%e7%ab%b6%e6%8a%80%e9%81%b8%e6%89%8b%e6%a8%a9%e5%a4%a7%e4%bc%9a/
END:VEVENT
BEGIN:VEVENT
DTSTART;VALUE=DATE:20250823
DTEND;VALUE=DATE:20250824
DTSTAMP:20260421T122529
CREATED:20250206T024638Z
LAST-MODIFIED:20250206T024638Z
UID:3041-1755907200-1755993599@keisei-athletics.com
SUMMARY:第56回ジュニアオリンピックU16陸上競技大会熊本県予選会
DESCRIPTION:えがお・高1の早生まれ
URL:https://keisei-athletics.com/event/%e7%ac%ac56%e5%9b%9e%e3%82%b8%e3%83%a5%e3%83%8b%e3%82%a2%e3%82%aa%e3%83%aa%e3%83%b3%e3%83%94%e3%83%83%e3%82%afu16%e9%99%b8%e4%b8%8a%e7%ab%b6%e6%8a%80%e5%a4%a7%e4%bc%9a%e7%86%8a%e6%9c%ac%e7%9c%8c/
END:VEVENT
END:VCALENDAR