BEGIN:VCALENDAR
VERSION:2.0
PRODID:-//慶誠高等学校 陸上競技部【公式】 - ECPv6.13.2.1//NONSGML v1.0//EN
CALSCALE:GREGORIAN
METHOD:PUBLISH
X-WR-CALNAME:慶誠高等学校 陸上競技部【公式】
X-ORIGINAL-URL:https://keisei-athletics.com
X-WR-CALDESC:慶誠高等学校 陸上競技部【公式】 のイベント
REFRESH-INTERVAL;VALUE=DURATION:PT1H
X-Robots-Tag:noindex
X-PUBLISHED-TTL:PT1H
BEGIN:VTIMEZONE
TZID:Asia/Tokyo
BEGIN:STANDARD
TZOFFSETFROM:+0900
TZOFFSETTO:+0900
TZNAME:JST
DTSTART:20250101T000000
END:STANDARD
END:VTIMEZONE
BEGIN:VEVENT
DTSTART;VALUE=DATE:20250830
DTEND;VALUE=DATE:20250831
DTSTAMP:20260421T122529
CREATED:20250206T013753Z
LAST-MODIFIED:20250206T013753Z
UID:2988-1756512000-1756598399@keisei-athletics.com
SUMMARY:高校学年別陸上
DESCRIPTION:（えがお健康スタジアム）
URL:https://keisei-athletics.com/event/%e9%ab%98%e6%a0%a1%e5%ad%a6%e5%b9%b4%e5%88%a5%e9%99%b8%e4%b8%8a-2/
END:VEVENT
END:VCALENDAR