BEGIN:VCALENDAR
VERSION:2.0
PRODID:-//慶誠高等学校 陸上競技部【公式】 - ECPv6.13.2.1//NONSGML v1.0//EN
CALSCALE:GREGORIAN
METHOD:PUBLISH
X-ORIGINAL-URL:https://keisei-athletics.com
X-WR-CALDESC:慶誠高等学校 陸上競技部【公式】 のイベント
REFRESH-INTERVAL;VALUE=DURATION:PT1H
X-Robots-Tag:noindex
X-PUBLISHED-TTL:PT1H
BEGIN:VTIMEZONE
TZID:Asia/Tokyo
BEGIN:STANDARD
TZOFFSETFROM:+0900
TZOFFSETTO:+0900
TZNAME:JST
DTSTART:20250101T000000
END:STANDARD
END:VTIMEZONE
BEGIN:VEVENT
DTSTART;VALUE=DATE:20250912
DTEND;VALUE=DATE:20250915
DTSTAMP:20260421T104510
CREATED:20250206T013824Z
LAST-MODIFIED:20250206T013824Z
UID:2990-1757635200-1757894399@keisei-athletics.com
SUMMARY:県高校新人陸上
DESCRIPTION:（えがお健康スタジアム）
URL:https://keisei-athletics.com/event/%e7%9c%8c%e9%ab%98%e6%a0%a1%e6%96%b0%e4%ba%ba%e9%99%b8%e4%b8%8a/
END:VEVENT
END:VCALENDAR