BEGIN:VCALENDAR
VERSION:2.0
PRODID:-//慶誠高等学校 陸上競技部【公式】 - ECPv6.13.2.1//NONSGML v1.0//EN
CALSCALE:GREGORIAN
METHOD:PUBLISH
X-WR-CALNAME:慶誠高等学校 陸上競技部【公式】
X-ORIGINAL-URL:https://keisei-athletics.com
X-WR-CALDESC:慶誠高等学校 陸上競技部【公式】 のイベント
REFRESH-INTERVAL;VALUE=DURATION:PT1H
X-Robots-Tag:noindex
X-PUBLISHED-TTL:PT1H
BEGIN:VTIMEZONE
TZID:Asia/Tokyo
BEGIN:STANDARD
TZOFFSETFROM:+0900
TZOFFSETTO:+0900
TZNAME:JST
DTSTART:20250101T000000
END:STANDARD
END:VTIMEZONE
BEGIN:VEVENT
DTSTART;VALUE=DATE:20250923
DTEND;VALUE=DATE:20250924
DTSTAMP:20260421T104352
CREATED:20250206T013858Z
LAST-MODIFIED:20250206T013858Z
UID:2992-1758585600-1758671999@keisei-athletics.com
SUMMARY:第3回長距離記録会
DESCRIPTION:（えがお健康スタジアム）
URL:https://keisei-athletics.com/event/%e7%ac%ac3%e5%9b%9e%e9%95%b7%e8%b7%9d%e9%9b%a2%e8%a8%98%e9%8c%b2%e4%bc%9a/
END:VEVENT
END:VCALENDAR