BEGIN:VCALENDAR
VERSION:2.0
PRODID:-//慶誠高等学校 陸上競技部【公式】 - ECPv6.13.2.1//NONSGML v1.0//EN
CALSCALE:GREGORIAN
METHOD:PUBLISH
X-ORIGINAL-URL:https://keisei-athletics.com
X-WR-CALDESC:慶誠高等学校 陸上競技部【公式】 のイベント
REFRESH-INTERVAL;VALUE=DURATION:PT1H
X-Robots-Tag:noindex
X-PUBLISHED-TTL:PT1H
BEGIN:VTIMEZONE
TZID:Asia/Tokyo
BEGIN:STANDARD
TZOFFSETFROM:+0900
TZOFFSETTO:+0900
TZNAME:JST
DTSTART:20250101T000000
END:STANDARD
END:VTIMEZONE
BEGIN:VEVENT
DTSTART;VALUE=DATE:20251003
DTEND;VALUE=DATE:20251008
DTSTAMP:20260421T085324
CREATED:20250206T024901Z
LAST-MODIFIED:20250206T024901Z
UID:3043-1759449600-1759881599@keisei-athletics.com
SUMMARY:第79回国民スポーツ大会
DESCRIPTION:滋賀・平和堂HATOスタジアム
URL:https://keisei-athletics.com/event/%e7%ac%ac79%e5%9b%9e%e5%9b%bd%e6%b0%91%e3%82%b9%e3%83%9d%e3%83%bc%e3%83%84%e5%a4%a7%e4%bc%9a/
END:VEVENT
BEGIN:VEVENT
DTSTART;VALUE=DATE:20251004
DTEND;VALUE=DATE:20251005
DTSTAMP:20260421T085324
CREATED:20250206T025004Z
LAST-MODIFIED:20250206T025004Z
UID:3045-1759536000-1759622399@keisei-athletics.com
SUMMARY:第271回熊本市陸上競技記録会
DESCRIPTION:水前寺
URL:https://keisei-athletics.com/event/%e7%ac%ac271%e5%9b%9e%e7%86%8a%e6%9c%ac%e5%b8%82%e9%99%b8%e4%b8%8a%e7%ab%b6%e6%8a%80%e8%a8%98%e9%8c%b2%e4%bc%9a/
END:VEVENT
END:VCALENDAR